BEGIN:VCALENDAR
VERSION:2.0
PRODID:https://www.kufer.de/kuferweb / DE
METHOD:PUBLISH
CALSCALE:GREGORIAN
X-WR-TIMEZONE:Europe/Berlin
BEGIN:VTIMEZONE
TZID:Europe/Berlin
X-LIC-LOCATION:Europe/Berlin
BEGIN:DAYLIGHT
TZOFFSETFROM:+0100
TZOFFSETTO:+0200
TZNAME:CEST
DTSTART:19700329T020000
RRULE:FREQ=YEARLY;INTERVAL=1;BYDAY=-1SU;BYMONTH=3
END:DAYLIGHT
BEGIN:STANDARD
TZOFFSETFROM:+0200
TZOFFSETTO:+0100
TZNAME:CET
DTSTART:19701025T030000
RRULE:FREQ=YEARLY;INTERVAL=1;BYDAY=-1SU;BYMONTH=10
END:STANDARD
END:VTIMEZONE
BEGIN:VEVENT
DTSTAMP:20260419T212007
DTSTART;TZID=Europe/Berlin:20260414T181500
DTEND;TZID=Europe/Berlin:20260414T211500
UID:K-26S-5019-20260414T181500@KSKUNSTSCHULE MONHEIM AM RHEIN
SUMMARY:Für Erwachsene Schalenkunst - Technik trifft Experiment (K-26S-5019) 
LOCATION:Kunstschule Monheim am Rhein, Raum 3.2, Berliner Ring 9, 40789 Monheim am Rhein
END:VEVENT
BEGIN:VEVENT
DTSTAMP:20260419T212007
DTSTART;TZID=Europe/Berlin:20260421T181500
DTEND;TZID=Europe/Berlin:20260421T211500
UID:K-26S-5019-20260421T181500@KSKUNSTSCHULE MONHEIM AM RHEIN
SUMMARY:Für Erwachsene Schalenkunst - Technik trifft Experiment (K-26S-5019) 
LOCATION:Kunstschule Monheim am Rhein, Raum 3.2, Berliner Ring 9, 40789 Monheim am Rhein
END:VEVENT
BEGIN:VEVENT
DTSTAMP:20260419T212007
DTSTART;TZID=Europe/Berlin:20260428T181500
DTEND;TZID=Europe/Berlin:20260428T211500
UID:K-26S-5019-20260428T181500@KSKUNSTSCHULE MONHEIM AM RHEIN
SUMMARY:Für Erwachsene Schalenkunst - Technik trifft Experiment (K-26S-5019) 
LOCATION:Kunstschule Monheim am Rhein, Raum 3.2, Berliner Ring 9, 40789 Monheim am Rhein
END:VEVENT
BEGIN:VEVENT
DTSTAMP:20260419T212007
DTSTART;TZID=Europe/Berlin:20260505T181500
DTEND;TZID=Europe/Berlin:20260505T211500
UID:K-26S-5019-20260505T181500@KSKUNSTSCHULE MONHEIM AM RHEIN
SUMMARY:Für Erwachsene Schalenkunst - Technik trifft Experiment (K-26S-5019) 
LOCATION:Kunstschule Monheim am Rhein, Raum 3.2, Berliner Ring 9, 40789 Monheim am Rhein
END:VEVENT
BEGIN:VEVENT
DTSTAMP:20260419T212007
DTSTART;TZID=Europe/Berlin:20260512T181500
DTEND;TZID=Europe/Berlin:20260512T211500
UID:K-26S-5019-20260512T181500@KSKUNSTSCHULE MONHEIM AM RHEIN
SUMMARY:Für Erwachsene Schalenkunst - Technik trifft Experiment (K-26S-5019) 
LOCATION:Kunstschule Monheim am Rhein, Raum 3.2, Berliner Ring 9, 40789 Monheim am Rhein
END:VEVENT
BEGIN:VEVENT
DTSTAMP:20260419T212007
DTSTART;TZID=Europe/Berlin:20260519T181500
DTEND;TZID=Europe/Berlin:20260519T211500
UID:K-26S-5019-20260519T181500@KSKUNSTSCHULE MONHEIM AM RHEIN
SUMMARY:Für Erwachsene Schalenkunst - Technik trifft Experiment (K-26S-5019) 
LOCATION:Kunstschule Monheim am Rhein, Raum 3.2, Berliner Ring 9, 40789 Monheim am Rhein
END:VEVENT
BEGIN:VEVENT
DTSTAMP:20260419T212007
DTSTART;TZID=Europe/Berlin:20260602T181500
DTEND;TZID=Europe/Berlin:20260602T211500
UID:K-26S-5019-20260602T181500@KSKUNSTSCHULE MONHEIM AM RHEIN
SUMMARY:Für Erwachsene Schalenkunst - Technik trifft Experiment (K-26S-5019) 
LOCATION:Kunstschule Monheim am Rhein, Raum 3.2, Berliner Ring 9, 40789 Monheim am Rhein
END:VEVENT
BEGIN:VEVENT
DTSTAMP:20260419T212007
DTSTART;TZID=Europe/Berlin:20260609T181500
DTEND;TZID=Europe/Berlin:20260609T211500
UID:K-26S-5019-20260609T181500@KSKUNSTSCHULE MONHEIM AM RHEIN
SUMMARY:Für Erwachsene Schalenkunst - Technik trifft Experiment (K-26S-5019) 
LOCATION:Kunstschule Monheim am Rhein, Raum 3.2, Berliner Ring 9, 40789 Monheim am Rhein
END:VEVENT
END:VCALENDAR