BEGIN:VCALENDAR
VERSION:2.0
PRODID:https://www.kufer.de/kuferweb / DE
METHOD:PUBLISH
CALSCALE:GREGORIAN
X-WR-TIMEZONE:Europe/Berlin
BEGIN:VTIMEZONE
TZID:Europe/Berlin
X-LIC-LOCATION:Europe/Berlin
BEGIN:DAYLIGHT
TZOFFSETFROM:+0100
TZOFFSETTO:+0200
TZNAME:CEST
DTSTART:19700329T020000
RRULE:FREQ=YEARLY;INTERVAL=1;BYDAY=-1SU;BYMONTH=3
END:DAYLIGHT
BEGIN:STANDARD
TZOFFSETFROM:+0200
TZOFFSETTO:+0100
TZNAME:CET
DTSTART:19701025T030000
RRULE:FREQ=YEARLY;INTERVAL=1;BYDAY=-1SU;BYMONTH=10
END:STANDARD
END:VTIMEZONE
BEGIN:VEVENT
DTSTAMP:20260419T212023
DTSTART;TZID=Europe/Berlin:20260415T191500
DTEND;TZID=Europe/Berlin:20260415T211500
UID:K-26S-5017-20260415T191500@KSKUNSTSCHULE MONHEIM AM RHEIN
SUMMARY:Für Erwachsene Tonwelten (K-26S-5017) 
LOCATION:Kunstschule Monheim am Rhein, Raum 3.2, Berliner Ring 9, 40789 Monheim am Rhein
END:VEVENT
BEGIN:VEVENT
DTSTAMP:20260419T212023
DTSTART;TZID=Europe/Berlin:20260422T191500
DTEND;TZID=Europe/Berlin:20260422T211500
UID:K-26S-5017-20260422T191500@KSKUNSTSCHULE MONHEIM AM RHEIN
SUMMARY:Für Erwachsene Tonwelten (K-26S-5017) 
LOCATION:Kunstschule Monheim am Rhein, Raum 3.2, Berliner Ring 9, 40789 Monheim am Rhein
END:VEVENT
BEGIN:VEVENT
DTSTAMP:20260419T212023
DTSTART;TZID=Europe/Berlin:20260429T191500
DTEND;TZID=Europe/Berlin:20260429T211500
UID:K-26S-5017-20260429T191500@KSKUNSTSCHULE MONHEIM AM RHEIN
SUMMARY:Für Erwachsene Tonwelten (K-26S-5017) 
LOCATION:Kunstschule Monheim am Rhein, Raum 3.2, Berliner Ring 9, 40789 Monheim am Rhein
END:VEVENT
BEGIN:VEVENT
DTSTAMP:20260419T212023
DTSTART;TZID=Europe/Berlin:20260506T191500
DTEND;TZID=Europe/Berlin:20260506T211500
UID:K-26S-5017-20260506T191500@KSKUNSTSCHULE MONHEIM AM RHEIN
SUMMARY:Für Erwachsene Tonwelten (K-26S-5017) 
LOCATION:Kunstschule Monheim am Rhein, Raum 3.2, Berliner Ring 9, 40789 Monheim am Rhein
END:VEVENT
BEGIN:VEVENT
DTSTAMP:20260419T212023
DTSTART;TZID=Europe/Berlin:20260520T191500
DTEND;TZID=Europe/Berlin:20260520T211500
UID:K-26S-5017-20260520T191500@KSKUNSTSCHULE MONHEIM AM RHEIN
SUMMARY:Für Erwachsene Tonwelten (K-26S-5017) 
LOCATION:Kunstschule Monheim am Rhein, Raum 3.2, Berliner Ring 9, 40789 Monheim am Rhein
END:VEVENT
BEGIN:VEVENT
DTSTAMP:20260419T212023
DTSTART;TZID=Europe/Berlin:20260527T191500
DTEND;TZID=Europe/Berlin:20260527T211500
UID:K-26S-5017-20260527T191500@KSKUNSTSCHULE MONHEIM AM RHEIN
SUMMARY:Für Erwachsene Tonwelten (K-26S-5017) 
LOCATION:Kunstschule Monheim am Rhein, Raum 3.2, Berliner Ring 9, 40789 Monheim am Rhein
END:VEVENT
BEGIN:VEVENT
DTSTAMP:20260419T212023
DTSTART;TZID=Europe/Berlin:20260610T191500
DTEND;TZID=Europe/Berlin:20260610T211500
UID:K-26S-5017-20260610T191500@KSKUNSTSCHULE MONHEIM AM RHEIN
SUMMARY:Für Erwachsene Tonwelten (K-26S-5017) 
LOCATION:Kunstschule Monheim am Rhein, Raum 3.2, Berliner Ring 9, 40789 Monheim am Rhein
END:VEVENT
END:VCALENDAR