BEGIN:VCALENDAR
VERSION:2.0
PRODID:https://www.kufer.de/kuferweb / DE
METHOD:PUBLISH
CALSCALE:GREGORIAN
X-WR-TIMEZONE:Europe/Berlin
BEGIN:VTIMEZONE
TZID:Europe/Berlin
X-LIC-LOCATION:Europe/Berlin
BEGIN:DAYLIGHT
TZOFFSETFROM:+0100
TZOFFSETTO:+0200
TZNAME:CEST
DTSTART:19700329T020000
RRULE:FREQ=YEARLY;INTERVAL=1;BYDAY=-1SU;BYMONTH=3
END:DAYLIGHT
BEGIN:STANDARD
TZOFFSETFROM:+0200
TZOFFSETTO:+0100
TZNAME:CET
DTSTART:19701025T030000
RRULE:FREQ=YEARLY;INTERVAL=1;BYDAY=-1SU;BYMONTH=10
END:STANDARD
END:VTIMEZONE
BEGIN:VEVENT
DTSTAMP:20260419T211852
DTSTART;TZID=Europe/Berlin:20260202T180000
DTEND;TZID=Europe/Berlin:20260202T210000
UID:K-26S-5014-20260202T180000@KSKUNSTSCHULE MONHEIM AM RHEIN
SUMMARY:Für Erwachsene Kreisrunde Kreationen - Töpfern an der Drehscheibe (K-26S-5014) 
LOCATION:Kunstschule Monheim am Rhein, Raum 3.2, Berliner Ring 9, 40789 Monheim am Rhein
END:VEVENT
BEGIN:VEVENT
DTSTAMP:20260419T211852
DTSTART;TZID=Europe/Berlin:20260209T180000
DTEND;TZID=Europe/Berlin:20260209T210000
UID:K-26S-5014-20260209T180000@KSKUNSTSCHULE MONHEIM AM RHEIN
SUMMARY:Für Erwachsene Kreisrunde Kreationen - Töpfern an der Drehscheibe (K-26S-5014) 
LOCATION:Kunstschule Monheim am Rhein, Raum 3.2, Berliner Ring 9, 40789 Monheim am Rhein
END:VEVENT
BEGIN:VEVENT
DTSTAMP:20260419T211852
DTSTART;TZID=Europe/Berlin:20260223T180000
DTEND;TZID=Europe/Berlin:20260223T210000
UID:K-26S-5014-20260223T180000@KSKUNSTSCHULE MONHEIM AM RHEIN
SUMMARY:Für Erwachsene Kreisrunde Kreationen - Töpfern an der Drehscheibe (K-26S-5014) 
LOCATION:Kunstschule Monheim am Rhein, Raum 3.2, Berliner Ring 9, 40789 Monheim am Rhein
END:VEVENT
BEGIN:VEVENT
DTSTAMP:20260419T211852
DTSTART;TZID=Europe/Berlin:20260302T180000
DTEND;TZID=Europe/Berlin:20260302T210000
UID:K-26S-5014-20260302T180000@KSKUNSTSCHULE MONHEIM AM RHEIN
SUMMARY:Für Erwachsene Kreisrunde Kreationen - Töpfern an der Drehscheibe (K-26S-5014) 
LOCATION:Kunstschule Monheim am Rhein, Raum 3.2, Berliner Ring 9, 40789 Monheim am Rhein
END:VEVENT
BEGIN:VEVENT
DTSTAMP:20260419T211852
DTSTART;TZID=Europe/Berlin:20260309T180000
DTEND;TZID=Europe/Berlin:20260309T210000
UID:K-26S-5014-20260309T180000@KSKUNSTSCHULE MONHEIM AM RHEIN
SUMMARY:Für Erwachsene Kreisrunde Kreationen - Töpfern an der Drehscheibe (K-26S-5014) 
LOCATION:Kunstschule Monheim am Rhein, Raum 3.2, Berliner Ring 9, 40789 Monheim am Rhein
END:VEVENT
BEGIN:VEVENT
DTSTAMP:20260419T211852
DTSTART;TZID=Europe/Berlin:20260413T180000
DTEND;TZID=Europe/Berlin:20260413T210000
UID:K-26S-5014-20260413T180000@KSKUNSTSCHULE MONHEIM AM RHEIN
DESCRIPTION:03.03.26 (*SE): Nachholtermin für 16.03.2026
SUMMARY:Für Erwachsene Kreisrunde Kreationen - Töpfern an der Drehscheibe (K-26S-5014) 
LOCATION:Kunstschule Monheim am Rhein, Raum 3.2, Berliner Ring 9, 40789 Monheim am Rhein
END:VEVENT
BEGIN:VEVENT
DTSTAMP:20260419T211852
DTSTART;TZID=Europe/Berlin:20260420T180000
DTEND;TZID=Europe/Berlin:20260420T210000
UID:K-26S-5014-20260420T180000@KSKUNSTSCHULE MONHEIM AM RHEIN
DESCRIPTION:03.03.26 (*SE): Nachholtermin für 23.03.2026
SUMMARY:Für Erwachsene Kreisrunde Kreationen - Töpfern an der Drehscheibe (K-26S-5014) 
LOCATION:Kunstschule Monheim am Rhein, Raum 3.2, Berliner Ring 9, 40789 Monheim am Rhein
END:VEVENT
END:VCALENDAR