BEGIN:VCALENDAR
VERSION:2.0
PRODID:https://www.kufer.de/kuferweb / DE
METHOD:PUBLISH
CALSCALE:GREGORIAN
X-WR-TIMEZONE:Europe/Berlin
BEGIN:VTIMEZONE
TZID:Europe/Berlin
X-LIC-LOCATION:Europe/Berlin
BEGIN:DAYLIGHT
TZOFFSETFROM:+0100
TZOFFSETTO:+0200
TZNAME:CEST
DTSTART:19700329T020000
RRULE:FREQ=YEARLY;INTERVAL=1;BYDAY=-1SU;BYMONTH=3
END:DAYLIGHT
BEGIN:STANDARD
TZOFFSETFROM:+0200
TZOFFSETTO:+0100
TZNAME:CET
DTSTART:19701025T030000
RRULE:FREQ=YEARLY;INTERVAL=1;BYDAY=-1SU;BYMONTH=10
END:STANDARD
END:VTIMEZONE
BEGIN:VEVENT
DTSTAMP:20260419T211920
DTSTART;TZID=Europe/Berlin:20260202T183000
DTEND;TZID=Europe/Berlin:20260202T203000
UID:K-26S-5013-20260202T183000@KSKUNSTSCHULE MONHEIM AM RHEIN
SUMMARY:Für Erwachsene Montagsmalerei (K-26S-5013) 
LOCATION:Kunstschule Monheim am Rhein, Raum 3.1, Berliner Ring 9, 40789 Monheim am Rhein
END:VEVENT
BEGIN:VEVENT
DTSTAMP:20260419T211920
DTSTART;TZID=Europe/Berlin:20260209T183000
DTEND;TZID=Europe/Berlin:20260209T203000
UID:K-26S-5013-20260209T183000@KSKUNSTSCHULE MONHEIM AM RHEIN
SUMMARY:Für Erwachsene Montagsmalerei (K-26S-5013) 
LOCATION:Kunstschule Monheim am Rhein, Raum 3.1, Berliner Ring 9, 40789 Monheim am Rhein
END:VEVENT
BEGIN:VEVENT
DTSTAMP:20260419T211920
DTSTART;TZID=Europe/Berlin:20260309T183000
DTEND;TZID=Europe/Berlin:20260309T203000
UID:K-26S-5013-20260309T183000@KSKUNSTSCHULE MONHEIM AM RHEIN
SUMMARY:Für Erwachsene Montagsmalerei (K-26S-5013) 
LOCATION:Kunstschule Monheim am Rhein, Raum 3.1, Berliner Ring 9, 40789 Monheim am Rhein
END:VEVENT
BEGIN:VEVENT
DTSTAMP:20260419T211920
DTSTART;TZID=Europe/Berlin:20260316T183000
DTEND;TZID=Europe/Berlin:20260316T203000
UID:K-26S-5013-20260316T183000@KSKUNSTSCHULE MONHEIM AM RHEIN
SUMMARY:Für Erwachsene Montagsmalerei (K-26S-5013) 
LOCATION:Kunstschule Monheim am Rhein, Raum 3.1, Berliner Ring 9, 40789 Monheim am Rhein
END:VEVENT
BEGIN:VEVENT
DTSTAMP:20260419T211920
DTSTART;TZID=Europe/Berlin:20260323T183000
DTEND;TZID=Europe/Berlin:20260323T203000
UID:K-26S-5013-20260323T183000@KSKUNSTSCHULE MONHEIM AM RHEIN
SUMMARY:Für Erwachsene Montagsmalerei (K-26S-5013) 
LOCATION:Kunstschule Monheim am Rhein, Raum 3.1, Berliner Ring 9, 40789 Monheim am Rhein
END:VEVENT
BEGIN:VEVENT
DTSTAMP:20260419T211920
DTSTART;TZID=Europe/Berlin:20260413T183000
DTEND;TZID=Europe/Berlin:20260413T203000
UID:K-26S-5013-20260413T183000@KSKUNSTSCHULE MONHEIM AM RHEIN
SUMMARY:Für Erwachsene Montagsmalerei (K-26S-5013) 
LOCATION:Kunstschule Monheim am Rhein, Raum 3.1, Berliner Ring 9, 40789 Monheim am Rhein
END:VEVENT
BEGIN:VEVENT
DTSTAMP:20260419T211920
DTSTART;TZID=Europe/Berlin:20260420T183000
DTEND;TZID=Europe/Berlin:20260420T203000
UID:K-26S-5013-20260420T183000@KSKUNSTSCHULE MONHEIM AM RHEIN
SUMMARY:Für Erwachsene Montagsmalerei (K-26S-5013) 
LOCATION:Kunstschule Monheim am Rhein, Raum 3.1, Berliner Ring 9, 40789 Monheim am Rhein
END:VEVENT
BEGIN:VEVENT
DTSTAMP:20260419T211920
DTSTART;TZID=Europe/Berlin:20260427T183000
DTEND;TZID=Europe/Berlin:20260427T203000
UID:K-26S-5013-20260427T183000@KSKUNSTSCHULE MONHEIM AM RHEIN
SUMMARY:Für Erwachsene Montagsmalerei (K-26S-5013) 
LOCATION:Kunstschule Monheim am Rhein, Raum 3.1, Berliner Ring 9, 40789 Monheim am Rhein
END:VEVENT
END:VCALENDAR