BEGIN:VCALENDAR
VERSION:2.0
PRODID:https://www.kufer.de/kuferweb / DE
METHOD:PUBLISH
CALSCALE:GREGORIAN
X-WR-TIMEZONE:Europe/Berlin
BEGIN:VTIMEZONE
TZID:Europe/Berlin
X-LIC-LOCATION:Europe/Berlin
BEGIN:DAYLIGHT
TZOFFSETFROM:+0100
TZOFFSETTO:+0200
TZNAME:CEST
DTSTART:19700329T020000
RRULE:FREQ=YEARLY;INTERVAL=1;BYDAY=-1SU;BYMONTH=3
END:DAYLIGHT
BEGIN:STANDARD
TZOFFSETFROM:+0200
TZOFFSETTO:+0100
TZNAME:CET
DTSTART:19701025T030000
RRULE:FREQ=YEARLY;INTERVAL=1;BYDAY=-1SU;BYMONTH=10
END:STANDARD
END:VTIMEZONE
BEGIN:VEVENT
DTSTAMP:20260419T211859
DTSTART;TZID=Europe/Berlin:20260414T193000
DTEND;TZID=Europe/Berlin:20260414T213000
UID:K-26S-5012-20260414T193000@KSKUNSTSCHULE MONHEIM AM RHEIN
SUMMARY:Für Erwachsene Malerei - Studie von Acryl- und Ölfarbe (K-26S-5012) 
LOCATION:Kunstschule Monheim am Rhein, Raum 3.1, Berliner Ring 9, 40789 Monheim am Rhein
END:VEVENT
BEGIN:VEVENT
DTSTAMP:20260419T211859
DTSTART;TZID=Europe/Berlin:20260421T193000
DTEND;TZID=Europe/Berlin:20260421T213000
UID:K-26S-5012-20260421T193000@KSKUNSTSCHULE MONHEIM AM RHEIN
SUMMARY:Für Erwachsene Malerei - Studie von Acryl- und Ölfarbe (K-26S-5012) 
LOCATION:Kunstschule Monheim am Rhein, Raum 3.1, Berliner Ring 9, 40789 Monheim am Rhein
END:VEVENT
BEGIN:VEVENT
DTSTAMP:20260419T211859
DTSTART;TZID=Europe/Berlin:20260428T193000
DTEND;TZID=Europe/Berlin:20260428T213000
UID:K-26S-5012-20260428T193000@KSKUNSTSCHULE MONHEIM AM RHEIN
SUMMARY:Für Erwachsene Malerei - Studie von Acryl- und Ölfarbe (K-26S-5012) 
LOCATION:Kunstschule Monheim am Rhein, Raum 3.1, Berliner Ring 9, 40789 Monheim am Rhein
END:VEVENT
BEGIN:VEVENT
DTSTAMP:20260419T211859
DTSTART;TZID=Europe/Berlin:20260505T193000
DTEND;TZID=Europe/Berlin:20260505T213000
UID:K-26S-5012-20260505T193000@KSKUNSTSCHULE MONHEIM AM RHEIN
SUMMARY:Für Erwachsene Malerei - Studie von Acryl- und Ölfarbe (K-26S-5012) 
LOCATION:Kunstschule Monheim am Rhein, Raum 3.1, Berliner Ring 9, 40789 Monheim am Rhein
END:VEVENT
BEGIN:VEVENT
DTSTAMP:20260419T211859
DTSTART;TZID=Europe/Berlin:20260512T193000
DTEND;TZID=Europe/Berlin:20260512T213000
UID:K-26S-5012-20260512T193000@KSKUNSTSCHULE MONHEIM AM RHEIN
SUMMARY:Für Erwachsene Malerei - Studie von Acryl- und Ölfarbe (K-26S-5012) 
LOCATION:Kunstschule Monheim am Rhein, Raum 3.1, Berliner Ring 9, 40789 Monheim am Rhein
END:VEVENT
BEGIN:VEVENT
DTSTAMP:20260419T211859
DTSTART;TZID=Europe/Berlin:20260519T193000
DTEND;TZID=Europe/Berlin:20260519T213000
UID:K-26S-5012-20260519T193000@KSKUNSTSCHULE MONHEIM AM RHEIN
SUMMARY:Für Erwachsene Malerei - Studie von Acryl- und Ölfarbe (K-26S-5012) 
LOCATION:Kunstschule Monheim am Rhein, Raum 3.1, Berliner Ring 9, 40789 Monheim am Rhein
END:VEVENT
BEGIN:VEVENT
DTSTAMP:20260419T211859
DTSTART;TZID=Europe/Berlin:20260602T193000
DTEND;TZID=Europe/Berlin:20260602T213000
UID:K-26S-5012-20260602T193000@KSKUNSTSCHULE MONHEIM AM RHEIN
SUMMARY:Für Erwachsene Malerei - Studie von Acryl- und Ölfarbe (K-26S-5012) 
LOCATION:Kunstschule Monheim am Rhein, Raum 3.1, Berliner Ring 9, 40789 Monheim am Rhein
END:VEVENT
END:VCALENDAR