BEGIN:VCALENDAR
VERSION:2.0
PRODID:https://www.kufer.de/kuferweb / DE
METHOD:PUBLISH
CALSCALE:GREGORIAN
X-WR-TIMEZONE:Europe/Berlin
BEGIN:VTIMEZONE
TZID:Europe/Berlin
X-LIC-LOCATION:Europe/Berlin
BEGIN:DAYLIGHT
TZOFFSETFROM:+0100
TZOFFSETTO:+0200
TZNAME:CEST
DTSTART:19700329T020000
RRULE:FREQ=YEARLY;INTERVAL=1;BYDAY=-1SU;BYMONTH=3
END:DAYLIGHT
BEGIN:STANDARD
TZOFFSETFROM:+0200
TZOFFSETTO:+0100
TZNAME:CET
DTSTART:19701025T030000
RRULE:FREQ=YEARLY;INTERVAL=1;BYDAY=-1SU;BYMONTH=10
END:STANDARD
END:VTIMEZONE
BEGIN:VEVENT
DTSTAMP:20260419T180653
DTSTART;TZID=Europe/Berlin:20260415T100000
DTEND;TZID=Europe/Berlin:20260415T120000
UID:K-26S-5004-20260415T100000@KSKUNSTSCHULE MONHEIM AM RHEIN
SUMMARY:Für Erwachsene Nähzeit (K-26S-5004) 
LOCATION:Kunstschule Monheim am Rhein, Raum 3.3, Berliner Ring 9, 40789 Monheim am Rhein
END:VEVENT
BEGIN:VEVENT
DTSTAMP:20260419T180653
DTSTART;TZID=Europe/Berlin:20260422T100000
DTEND;TZID=Europe/Berlin:20260422T120000
UID:K-26S-5004-20260422T100000@KSKUNSTSCHULE MONHEIM AM RHEIN
SUMMARY:Für Erwachsene Nähzeit (K-26S-5004) 
LOCATION:Kunstschule Monheim am Rhein, Raum 3.3, Berliner Ring 9, 40789 Monheim am Rhein
END:VEVENT
BEGIN:VEVENT
DTSTAMP:20260419T180653
DTSTART;TZID=Europe/Berlin:20260429T100000
DTEND;TZID=Europe/Berlin:20260429T120000
UID:K-26S-5004-20260429T100000@KSKUNSTSCHULE MONHEIM AM RHEIN
SUMMARY:Für Erwachsene Nähzeit (K-26S-5004) 
LOCATION:Kunstschule Monheim am Rhein, Raum 3.3, Berliner Ring 9, 40789 Monheim am Rhein
END:VEVENT
BEGIN:VEVENT
DTSTAMP:20260419T180653
DTSTART;TZID=Europe/Berlin:20260506T100000
DTEND;TZID=Europe/Berlin:20260506T120000
UID:K-26S-5004-20260506T100000@KSKUNSTSCHULE MONHEIM AM RHEIN
SUMMARY:Für Erwachsene Nähzeit (K-26S-5004) 
LOCATION:Kunstschule Monheim am Rhein, Raum 3.3, Berliner Ring 9, 40789 Monheim am Rhein
END:VEVENT
BEGIN:VEVENT
DTSTAMP:20260419T180653
DTSTART;TZID=Europe/Berlin:20260513T100000
DTEND;TZID=Europe/Berlin:20260513T120000
UID:K-26S-5004-20260513T100000@KSKUNSTSCHULE MONHEIM AM RHEIN
SUMMARY:Für Erwachsene Nähzeit (K-26S-5004) 
LOCATION:Kunstschule Monheim am Rhein, Raum 3.3, Berliner Ring 9, 40789 Monheim am Rhein
END:VEVENT
BEGIN:VEVENT
DTSTAMP:20260419T180653
DTSTART;TZID=Europe/Berlin:20260520T100000
DTEND;TZID=Europe/Berlin:20260520T120000
UID:K-26S-5004-20260520T100000@KSKUNSTSCHULE MONHEIM AM RHEIN
SUMMARY:Für Erwachsene Nähzeit (K-26S-5004) 
LOCATION:Kunstschule Monheim am Rhein, Raum 3.3, Berliner Ring 9, 40789 Monheim am Rhein
END:VEVENT
BEGIN:VEVENT
DTSTAMP:20260419T180653
DTSTART;TZID=Europe/Berlin:20260527T100000
DTEND;TZID=Europe/Berlin:20260527T120000
UID:K-26S-5004-20260527T100000@KSKUNSTSCHULE MONHEIM AM RHEIN
SUMMARY:Für Erwachsene Nähzeit (K-26S-5004) 
LOCATION:Kunstschule Monheim am Rhein, Raum 3.3, Berliner Ring 9, 40789 Monheim am Rhein
END:VEVENT
END:VCALENDAR