BEGIN:VCALENDAR
VERSION:2.0
PRODID:https://www.kufer.de/kuferweb / DE
METHOD:PUBLISH
CALSCALE:GREGORIAN
X-WR-TIMEZONE:Europe/Berlin
BEGIN:VTIMEZONE
TZID:Europe/Berlin
X-LIC-LOCATION:Europe/Berlin
BEGIN:DAYLIGHT
TZOFFSETFROM:+0100
TZOFFSETTO:+0200
TZNAME:CEST
DTSTART:19700329T020000
RRULE:FREQ=YEARLY;INTERVAL=1;BYDAY=-1SU;BYMONTH=3
END:DAYLIGHT
BEGIN:STANDARD
TZOFFSETFROM:+0200
TZOFFSETTO:+0100
TZNAME:CET
DTSTART:19701025T030000
RRULE:FREQ=YEARLY;INTERVAL=1;BYDAY=-1SU;BYMONTH=10
END:STANDARD
END:VTIMEZONE
BEGIN:VEVENT
DTSTAMP:20260421T124946
DTSTART;TZID=Europe/Berlin:20260429T180000
DTEND;TZID=Europe/Berlin:20260429T193000
UID:K-26S-3008-20260429T180000@KSKUNSTSCHULE MONHEIM AM RHEIN
SUMMARY:Für Jugendliche von 10 bis 17 Jahren Traumstoffe und Zaubergarne: Nähen lernen! (K-26S-3008) 
LOCATION:Kunstschule Monheim am Rhein, Raum 3.3, Berliner Ring 9, 40789 Monheim am Rhein
END:VEVENT
BEGIN:VEVENT
DTSTAMP:20260421T124946
DTSTART;TZID=Europe/Berlin:20260506T180000
DTEND;TZID=Europe/Berlin:20260506T193000
UID:K-26S-3008-20260506T180000@KSKUNSTSCHULE MONHEIM AM RHEIN
SUMMARY:Für Jugendliche von 10 bis 17 Jahren Traumstoffe und Zaubergarne: Nähen lernen! (K-26S-3008) 
LOCATION:Kunstschule Monheim am Rhein, Raum 3.3, Berliner Ring 9, 40789 Monheim am Rhein
END:VEVENT
BEGIN:VEVENT
DTSTAMP:20260421T124946
DTSTART;TZID=Europe/Berlin:20260513T180000
DTEND;TZID=Europe/Berlin:20260513T193000
UID:K-26S-3008-20260513T180000@KSKUNSTSCHULE MONHEIM AM RHEIN
SUMMARY:Für Jugendliche von 10 bis 17 Jahren Traumstoffe und Zaubergarne: Nähen lernen! (K-26S-3008) 
LOCATION:Kunstschule Monheim am Rhein, Raum 3.3, Berliner Ring 9, 40789 Monheim am Rhein
END:VEVENT
BEGIN:VEVENT
DTSTAMP:20260421T124946
DTSTART;TZID=Europe/Berlin:20260520T180000
DTEND;TZID=Europe/Berlin:20260520T193000
UID:K-26S-3008-20260520T180000@KSKUNSTSCHULE MONHEIM AM RHEIN
SUMMARY:Für Jugendliche von 10 bis 17 Jahren Traumstoffe und Zaubergarne: Nähen lernen! (K-26S-3008) 
LOCATION:Kunstschule Monheim am Rhein, Raum 3.3, Berliner Ring 9, 40789 Monheim am Rhein
END:VEVENT
BEGIN:VEVENT
DTSTAMP:20260421T124946
DTSTART;TZID=Europe/Berlin:20260527T180000
DTEND;TZID=Europe/Berlin:20260527T193000
UID:K-26S-3008-20260527T180000@KSKUNSTSCHULE MONHEIM AM RHEIN
SUMMARY:Für Jugendliche von 10 bis 17 Jahren Traumstoffe und Zaubergarne: Nähen lernen! (K-26S-3008) 
LOCATION:Kunstschule Monheim am Rhein, Raum 3.3, Berliner Ring 9, 40789 Monheim am Rhein
END:VEVENT
BEGIN:VEVENT
DTSTAMP:20260421T124946
DTSTART;TZID=Europe/Berlin:20260603T180000
DTEND;TZID=Europe/Berlin:20260603T193000
UID:K-26S-3008-20260603T180000@KSKUNSTSCHULE MONHEIM AM RHEIN
SUMMARY:Für Jugendliche von 10 bis 17 Jahren Traumstoffe und Zaubergarne: Nähen lernen! (K-26S-3008) 
LOCATION:Kunstschule Monheim am Rhein, Raum 3.3, Berliner Ring 9, 40789 Monheim am Rhein
END:VEVENT
BEGIN:VEVENT
DTSTAMP:20260421T124946
DTSTART;TZID=Europe/Berlin:20260610T180000
DTEND;TZID=Europe/Berlin:20260610T193000
UID:K-26S-3008-20260610T180000@KSKUNSTSCHULE MONHEIM AM RHEIN
SUMMARY:Für Jugendliche von 10 bis 17 Jahren Traumstoffe und Zaubergarne: Nähen lernen! (K-26S-3008) 
LOCATION:Kunstschule Monheim am Rhein, Raum 3.3, Berliner Ring 9, 40789 Monheim am Rhein
END:VEVENT
BEGIN:VEVENT
DTSTAMP:20260421T124946
DTSTART;TZID=Europe/Berlin:20260617T180000
DTEND;TZID=Europe/Berlin:20260617T193000
UID:K-26S-3008-20260617T180000@KSKUNSTSCHULE MONHEIM AM RHEIN
SUMMARY:Für Jugendliche von 10 bis 17 Jahren Traumstoffe und Zaubergarne: Nähen lernen! (K-26S-3008) 
LOCATION:Kunstschule Monheim am Rhein, Raum 3.3, Berliner Ring 9, 40789 Monheim am Rhein
END:VEVENT
BEGIN:VEVENT
DTSTAMP:20260421T124946
DTSTART;TZID=Europe/Berlin:20260624T180000
DTEND;TZID=Europe/Berlin:20260624T193000
UID:K-26S-3008-20260624T180000@KSKUNSTSCHULE MONHEIM AM RHEIN
SUMMARY:Für Jugendliche von 10 bis 17 Jahren Traumstoffe und Zaubergarne: Nähen lernen! (K-26S-3008) 
LOCATION:Kunstschule Monheim am Rhein, Raum 3.3, Berliner Ring 9, 40789 Monheim am Rhein
END:VEVENT
BEGIN:VEVENT
DTSTAMP:20260421T124946
DTSTART;TZID=Europe/Berlin:20260701T180000
DTEND;TZID=Europe/Berlin:20260701T193000
UID:K-26S-3008-20260701T180000@KSKUNSTSCHULE MONHEIM AM RHEIN
SUMMARY:Für Jugendliche von 10 bis 17 Jahren Traumstoffe und Zaubergarne: Nähen lernen! (K-26S-3008) 
LOCATION:Kunstschule Monheim am Rhein, Raum 3.3, Berliner Ring 9, 40789 Monheim am Rhein
END:VEVENT
END:VCALENDAR