BEGIN:VCALENDAR
VERSION:2.0
PRODID:https://www.kufer.de/kuferweb / DE
METHOD:PUBLISH
CALSCALE:GREGORIAN
X-WR-TIMEZONE:Europe/Berlin
BEGIN:VTIMEZONE
TZID:Europe/Berlin
X-LIC-LOCATION:Europe/Berlin
BEGIN:DAYLIGHT
TZOFFSETFROM:+0100
TZOFFSETTO:+0200
TZNAME:CEST
DTSTART:19700329T020000
RRULE:FREQ=YEARLY;INTERVAL=1;BYDAY=-1SU;BYMONTH=3
END:DAYLIGHT
BEGIN:STANDARD
TZOFFSETFROM:+0200
TZOFFSETTO:+0100
TZNAME:CET
DTSTART:19701025T030000
RRULE:FREQ=YEARLY;INTERVAL=1;BYDAY=-1SU;BYMONTH=10
END:STANDARD
END:VTIMEZONE
BEGIN:VEVENT
DTSTAMP:20260419T230449
DTSTART;TZID=Europe/Berlin:20260203T160000
DTEND;TZID=Europe/Berlin:20260203T180000
UID:K-26S-3005-20260203T160000@KSKUNSTSCHULE MONHEIM AM RHEIN
DESCRIPTION:abgerechnet
SUMMARY:Für Jugendliche von 10 bis 13 Jahren Tonlabor (K-26S-3005) 
LOCATION:Kunstschule Monheim am Rhein, Raum 3.2, Berliner Ring 9, 40789 Monheim am Rhein
END:VEVENT
BEGIN:VEVENT
DTSTAMP:20260419T230449
DTSTART;TZID=Europe/Berlin:20260210T160000
DTEND;TZID=Europe/Berlin:20260210T180000
UID:K-26S-3005-20260210T160000@KSKUNSTSCHULE MONHEIM AM RHEIN
DESCRIPTION:abgerechnet
SUMMARY:Für Jugendliche von 10 bis 13 Jahren Tonlabor (K-26S-3005) 
LOCATION:Kunstschule Monheim am Rhein, Raum 3.2, Berliner Ring 9, 40789 Monheim am Rhein
END:VEVENT
BEGIN:VEVENT
DTSTAMP:20260419T230449
DTSTART;TZID=Europe/Berlin:20260217T160000
DTEND;TZID=Europe/Berlin:20260217T180000
UID:K-26S-3005-20260217T160000@KSKUNSTSCHULE MONHEIM AM RHEIN
DESCRIPTION:abgerechnet
SUMMARY:Für Jugendliche von 10 bis 13 Jahren Tonlabor (K-26S-3005) 
LOCATION:Kunstschule Monheim am Rhein, Raum 3.2, Berliner Ring 9, 40789 Monheim am Rhein
END:VEVENT
BEGIN:VEVENT
DTSTAMP:20260419T230449
DTSTART;TZID=Europe/Berlin:20260224T160000
DTEND;TZID=Europe/Berlin:20260224T180000
UID:K-26S-3005-20260224T160000@KSKUNSTSCHULE MONHEIM AM RHEIN
DESCRIPTION:abgerechnet
SUMMARY:Für Jugendliche von 10 bis 13 Jahren Tonlabor (K-26S-3005) 
LOCATION:Kunstschule Monheim am Rhein, Raum 3.2, Berliner Ring 9, 40789 Monheim am Rhein
END:VEVENT
BEGIN:VEVENT
DTSTAMP:20260419T230449
DTSTART;TZID=Europe/Berlin:20260303T160000
DTEND;TZID=Europe/Berlin:20260303T180000
UID:K-26S-3005-20260303T160000@KSKUNSTSCHULE MONHEIM AM RHEIN
DESCRIPTION:abgerechnet
SUMMARY:Für Jugendliche von 10 bis 13 Jahren Tonlabor (K-26S-3005) 
LOCATION:Kunstschule Monheim am Rhein, Raum 3.2, Berliner Ring 9, 40789 Monheim am Rhein
END:VEVENT
BEGIN:VEVENT
DTSTAMP:20260419T230449
DTSTART;TZID=Europe/Berlin:20260310T160000
DTEND;TZID=Europe/Berlin:20260310T180000
UID:K-26S-3005-20260310T160000@KSKUNSTSCHULE MONHEIM AM RHEIN
SUMMARY:Für Jugendliche von 10 bis 13 Jahren Tonlabor (K-26S-3005) 
LOCATION:Kunstschule Monheim am Rhein, Raum 3.2, Berliner Ring 9, 40789 Monheim am Rhein
END:VEVENT
BEGIN:VEVENT
DTSTAMP:20260419T230449
DTSTART;TZID=Europe/Berlin:20260324T160000
DTEND;TZID=Europe/Berlin:20260324T180000
UID:K-26S-3005-20260324T160000@KSKUNSTSCHULE MONHEIM AM RHEIN
SUMMARY:Für Jugendliche von 10 bis 13 Jahren Tonlabor (K-26S-3005) 
LOCATION:Kunstschule Monheim am Rhein, Raum 3.2, Berliner Ring 9, 40789 Monheim am Rhein
END:VEVENT
BEGIN:VEVENT
DTSTAMP:20260419T230449
DTSTART;TZID=Europe/Berlin:20260414T160000
DTEND;TZID=Europe/Berlin:20260414T180000
UID:K-26S-3005-20260414T160000@KSKUNSTSCHULE MONHEIM AM RHEIN
SUMMARY:Für Jugendliche von 10 bis 13 Jahren Tonlabor (K-26S-3005) 
LOCATION:Kunstschule Monheim am Rhein, Raum 3.2, Berliner Ring 9, 40789 Monheim am Rhein
END:VEVENT
BEGIN:VEVENT
DTSTAMP:20260419T230449
DTSTART;TZID=Europe/Berlin:20260421T160000
DTEND;TZID=Europe/Berlin:20260421T180000
UID:K-26S-3005-20260421T160000@KSKUNSTSCHULE MONHEIM AM RHEIN
SUMMARY:Für Jugendliche von 10 bis 13 Jahren Tonlabor (K-26S-3005) 
LOCATION:Kunstschule Monheim am Rhein, Raum 3.2, Berliner Ring 9, 40789 Monheim am Rhein
END:VEVENT
END:VCALENDAR