BEGIN:VCALENDAR
VERSION:2.0
PRODID:https://www.kufer.de/kuferweb / DE
METHOD:PUBLISH
CALSCALE:GREGORIAN
X-WR-TIMEZONE:Europe/Berlin
BEGIN:VTIMEZONE
TZID:Europe/Berlin
X-LIC-LOCATION:Europe/Berlin
BEGIN:DAYLIGHT
TZOFFSETFROM:+0100
TZOFFSETTO:+0200
TZNAME:CEST
DTSTART:19700329T020000
RRULE:FREQ=YEARLY;INTERVAL=1;BYDAY=-1SU;BYMONTH=3
END:DAYLIGHT
BEGIN:STANDARD
TZOFFSETFROM:+0200
TZOFFSETTO:+0100
TZNAME:CET
DTSTART:19701025T030000
RRULE:FREQ=YEARLY;INTERVAL=1;BYDAY=-1SU;BYMONTH=10
END:STANDARD
END:VTIMEZONE
BEGIN:VEVENT
DTSTAMP:20260421T113226
DTSTART;TZID=Europe/Berlin:20260205T161500
DTEND;TZID=Europe/Berlin:20260205T174500
UID:K-26S-2024-20260205T161500@KSKUNSTSCHULE MONHEIM AM RHEIN
SUMMARY:Für Kinder von 6 bis 10 Jahren Knallbuntes Kunstlabor (K-26S-2024) 
LOCATION:Grundschule Im Pfingsterfeld - Raum 2.23 - Kreativität, Louise-Bourgeois-Platz 1, 40789 Monheim am Rhein
END:VEVENT
BEGIN:VEVENT
DTSTAMP:20260421T113226
DTSTART;TZID=Europe/Berlin:20260219T161500
DTEND;TZID=Europe/Berlin:20260219T174500
UID:K-26S-2024-20260219T161500@KSKUNSTSCHULE MONHEIM AM RHEIN
SUMMARY:Für Kinder von 6 bis 10 Jahren Knallbuntes Kunstlabor (K-26S-2024) 
LOCATION:Grundschule Im Pfingsterfeld - Raum 2.23 - Kreativität, Louise-Bourgeois-Platz 1, 40789 Monheim am Rhein
END:VEVENT
BEGIN:VEVENT
DTSTAMP:20260421T113226
DTSTART;TZID=Europe/Berlin:20260226T161500
DTEND;TZID=Europe/Berlin:20260226T174500
UID:K-26S-2024-20260226T161500@KSKUNSTSCHULE MONHEIM AM RHEIN
SUMMARY:Für Kinder von 6 bis 10 Jahren Knallbuntes Kunstlabor (K-26S-2024) 
LOCATION:Grundschule Im Pfingsterfeld - Raum 2.23 - Kreativität, Louise-Bourgeois-Platz 1, 40789 Monheim am Rhein
END:VEVENT
BEGIN:VEVENT
DTSTAMP:20260421T113226
DTSTART;TZID=Europe/Berlin:20260305T161500
DTEND;TZID=Europe/Berlin:20260305T174500
UID:K-26S-2024-20260305T161500@KSKUNSTSCHULE MONHEIM AM RHEIN
SUMMARY:Für Kinder von 6 bis 10 Jahren Knallbuntes Kunstlabor (K-26S-2024) 
LOCATION:Grundschule Im Pfingsterfeld - Raum 2.23 - Kreativität, Louise-Bourgeois-Platz 1, 40789 Monheim am Rhein
END:VEVENT
BEGIN:VEVENT
DTSTAMP:20260421T113226
DTSTART;TZID=Europe/Berlin:20260312T161500
DTEND;TZID=Europe/Berlin:20260312T174500
UID:K-26S-2024-20260312T161500@KSKUNSTSCHULE MONHEIM AM RHEIN
SUMMARY:Für Kinder von 6 bis 10 Jahren Knallbuntes Kunstlabor (K-26S-2024) 
LOCATION:Grundschule Im Pfingsterfeld - Raum 2.23 - Kreativität, Louise-Bourgeois-Platz 1, 40789 Monheim am Rhein
END:VEVENT
BEGIN:VEVENT
DTSTAMP:20260421T113226
DTSTART;TZID=Europe/Berlin:20260319T161500
DTEND;TZID=Europe/Berlin:20260319T174500
UID:K-26S-2024-20260319T161500@KSKUNSTSCHULE MONHEIM AM RHEIN
SUMMARY:Für Kinder von 6 bis 10 Jahren Knallbuntes Kunstlabor (K-26S-2024) 
LOCATION:Grundschule Im Pfingsterfeld - Raum 2.23 - Kreativität, Louise-Bourgeois-Platz 1, 40789 Monheim am Rhein
END:VEVENT
BEGIN:VEVENT
DTSTAMP:20260421T113226
DTSTART;TZID=Europe/Berlin:20260326T161500
DTEND;TZID=Europe/Berlin:20260326T174500
UID:K-26S-2024-20260326T161500@KSKUNSTSCHULE MONHEIM AM RHEIN
SUMMARY:Für Kinder von 6 bis 10 Jahren Knallbuntes Kunstlabor (K-26S-2024) 
LOCATION:Grundschule Im Pfingsterfeld - Raum 2.23 - Kreativität, Louise-Bourgeois-Platz 1, 40789 Monheim am Rhein
END:VEVENT
BEGIN:VEVENT
DTSTAMP:20260421T113226
DTSTART;TZID=Europe/Berlin:20260423T161500
DTEND;TZID=Europe/Berlin:20260423T174500
UID:K-26S-2024-20260423T161500@KSKUNSTSCHULE MONHEIM AM RHEIN
DESCRIPTION:DZ Vertretung 15.04.26 (*CF)
SUMMARY:Für Kinder von 6 bis 10 Jahren Knallbuntes Kunstlabor (K-26S-2024) 
LOCATION:Grundschule Im Pfingsterfeld - Raum 2.23 - Kreativität, Louise-Bourgeois-Platz 1, 40789 Monheim am Rhein
END:VEVENT
END:VCALENDAR