BEGIN:VCALENDAR
VERSION:2.0
PRODID:https://www.kufer.de/kuferweb / DE
METHOD:PUBLISH
CALSCALE:GREGORIAN
X-WR-TIMEZONE:Europe/Berlin
BEGIN:VTIMEZONE
TZID:Europe/Berlin
X-LIC-LOCATION:Europe/Berlin
BEGIN:DAYLIGHT
TZOFFSETFROM:+0100
TZOFFSETTO:+0200
TZNAME:CEST
DTSTART:19700329T020000
RRULE:FREQ=YEARLY;INTERVAL=1;BYDAY=-1SU;BYMONTH=3
END:DAYLIGHT
BEGIN:STANDARD
TZOFFSETFROM:+0200
TZOFFSETTO:+0100
TZNAME:CET
DTSTART:19701025T030000
RRULE:FREQ=YEARLY;INTERVAL=1;BYDAY=-1SU;BYMONTH=10
END:STANDARD
END:VTIMEZONE
BEGIN:VEVENT
DTSTAMP:20260421T120140
DTSTART;TZID=Europe/Berlin:20260429T171500
DTEND;TZID=Europe/Berlin:20260429T184500
UID:K-26S-2022-20260429T171500@KSKUNSTSCHULE MONHEIM AM RHEIN
SUMMARY:Für Kinder von 8 - 10 Jahren Alles Keramik (K-26S-2022) 
LOCATION:Kunstschule Monheim am Rhein, Raum 3.2, Berliner Ring 9, 40789 Monheim am Rhein
END:VEVENT
BEGIN:VEVENT
DTSTAMP:20260421T120140
DTSTART;TZID=Europe/Berlin:20260506T171500
DTEND;TZID=Europe/Berlin:20260506T184500
UID:K-26S-2022-20260506T171500@KSKUNSTSCHULE MONHEIM AM RHEIN
SUMMARY:Für Kinder von 8 - 10 Jahren Alles Keramik (K-26S-2022) 
LOCATION:Kunstschule Monheim am Rhein, Raum 3.2, Berliner Ring 9, 40789 Monheim am Rhein
END:VEVENT
BEGIN:VEVENT
DTSTAMP:20260421T120140
DTSTART;TZID=Europe/Berlin:20260513T171500
DTEND;TZID=Europe/Berlin:20260513T184500
UID:K-26S-2022-20260513T171500@KSKUNSTSCHULE MONHEIM AM RHEIN
SUMMARY:Für Kinder von 8 - 10 Jahren Alles Keramik (K-26S-2022) 
LOCATION:Kunstschule Monheim am Rhein, Raum 3.2, Berliner Ring 9, 40789 Monheim am Rhein
END:VEVENT
BEGIN:VEVENT
DTSTAMP:20260421T120140
DTSTART;TZID=Europe/Berlin:20260520T171500
DTEND;TZID=Europe/Berlin:20260520T184500
UID:K-26S-2022-20260520T171500@KSKUNSTSCHULE MONHEIM AM RHEIN
SUMMARY:Für Kinder von 8 - 10 Jahren Alles Keramik (K-26S-2022) 
LOCATION:Kunstschule Monheim am Rhein, Raum 3.2, Berliner Ring 9, 40789 Monheim am Rhein
END:VEVENT
BEGIN:VEVENT
DTSTAMP:20260421T120140
DTSTART;TZID=Europe/Berlin:20260527T171500
DTEND;TZID=Europe/Berlin:20260527T184500
UID:K-26S-2022-20260527T171500@KSKUNSTSCHULE MONHEIM AM RHEIN
SUMMARY:Für Kinder von 8 - 10 Jahren Alles Keramik (K-26S-2022) 
LOCATION:Kunstschule Monheim am Rhein, Raum 3.2, Berliner Ring 9, 40789 Monheim am Rhein
END:VEVENT
BEGIN:VEVENT
DTSTAMP:20260421T120140
DTSTART;TZID=Europe/Berlin:20260603T171500
DTEND;TZID=Europe/Berlin:20260603T184500
UID:K-26S-2022-20260603T171500@KSKUNSTSCHULE MONHEIM AM RHEIN
SUMMARY:Für Kinder von 8 - 10 Jahren Alles Keramik (K-26S-2022) 
LOCATION:Kunstschule Monheim am Rhein, Raum 3.2, Berliner Ring 9, 40789 Monheim am Rhein
END:VEVENT
BEGIN:VEVENT
DTSTAMP:20260421T120140
DTSTART;TZID=Europe/Berlin:20260610T171500
DTEND;TZID=Europe/Berlin:20260610T184500
UID:K-26S-2022-20260610T171500@KSKUNSTSCHULE MONHEIM AM RHEIN
SUMMARY:Für Kinder von 8 - 10 Jahren Alles Keramik (K-26S-2022) 
LOCATION:Kunstschule Monheim am Rhein, Raum 3.2, Berliner Ring 9, 40789 Monheim am Rhein
END:VEVENT
BEGIN:VEVENT
DTSTAMP:20260421T120140
DTSTART;TZID=Europe/Berlin:20260617T171500
DTEND;TZID=Europe/Berlin:20260617T184500
UID:K-26S-2022-20260617T171500@KSKUNSTSCHULE MONHEIM AM RHEIN
SUMMARY:Für Kinder von 8 - 10 Jahren Alles Keramik (K-26S-2022) 
LOCATION:Kunstschule Monheim am Rhein, Raum 3.2, Berliner Ring 9, 40789 Monheim am Rhein
END:VEVENT
BEGIN:VEVENT
DTSTAMP:20260421T120140
DTSTART;TZID=Europe/Berlin:20260624T171500
DTEND;TZID=Europe/Berlin:20260624T184500
UID:K-26S-2022-20260624T171500@KSKUNSTSCHULE MONHEIM AM RHEIN
SUMMARY:Für Kinder von 8 - 10 Jahren Alles Keramik (K-26S-2022) 
LOCATION:Kunstschule Monheim am Rhein, Raum 3.2, Berliner Ring 9, 40789 Monheim am Rhein
END:VEVENT
BEGIN:VEVENT
DTSTAMP:20260421T120140
DTSTART;TZID=Europe/Berlin:20260701T171500
DTEND;TZID=Europe/Berlin:20260701T184500
UID:K-26S-2022-20260701T171500@KSKUNSTSCHULE MONHEIM AM RHEIN
SUMMARY:Für Kinder von 8 - 10 Jahren Alles Keramik (K-26S-2022) 
LOCATION:Kunstschule Monheim am Rhein, Raum 3.2, Berliner Ring 9, 40789 Monheim am Rhein
END:VEVENT
END:VCALENDAR