BEGIN:VCALENDAR
VERSION:2.0
PRODID:https://www.kufer.de/kuferweb / DE
METHOD:PUBLISH
CALSCALE:GREGORIAN
X-WR-TIMEZONE:Europe/Berlin
BEGIN:VTIMEZONE
TZID:Europe/Berlin
X-LIC-LOCATION:Europe/Berlin
BEGIN:DAYLIGHT
TZOFFSETFROM:+0100
TZOFFSETTO:+0200
TZNAME:CEST
DTSTART:19700329T020000
RRULE:FREQ=YEARLY;INTERVAL=1;BYDAY=-1SU;BYMONTH=3
END:DAYLIGHT
BEGIN:STANDARD
TZOFFSETFROM:+0200
TZOFFSETTO:+0100
TZNAME:CET
DTSTART:19701025T030000
RRULE:FREQ=YEARLY;INTERVAL=1;BYDAY=-1SU;BYMONTH=10
END:STANDARD
END:VTIMEZONE
BEGIN:VEVENT
DTSTAMP:20260421T124716
DTSTART;TZID=Europe/Berlin:20260508T161500
DTEND;TZID=Europe/Berlin:20260508T174500
UID:K-26S-2021-20260508T161500@KSKUNSTSCHULE MONHEIM AM RHEIN
SUMMARY:Für Kinder von 6 bis 10 Jahren Fantasie in Bewegung (K-26S-2021) 
LOCATION:Kunstschule Monheim am Rhein, Raum 3.3, Berliner Ring 9, 40789 Monheim am Rhein
END:VEVENT
BEGIN:VEVENT
DTSTAMP:20260421T124716
DTSTART;TZID=Europe/Berlin:20260522T161500
DTEND;TZID=Europe/Berlin:20260522T174500
UID:K-26S-2021-20260522T161500@KSKUNSTSCHULE MONHEIM AM RHEIN
SUMMARY:Für Kinder von 6 bis 10 Jahren Fantasie in Bewegung (K-26S-2021) 
LOCATION:Kunstschule Monheim am Rhein, Raum 3.3, Berliner Ring 9, 40789 Monheim am Rhein
END:VEVENT
BEGIN:VEVENT
DTSTAMP:20260421T124716
DTSTART;TZID=Europe/Berlin:20260529T161500
DTEND;TZID=Europe/Berlin:20260529T174500
UID:K-26S-2021-20260529T161500@KSKUNSTSCHULE MONHEIM AM RHEIN
SUMMARY:Für Kinder von 6 bis 10 Jahren Fantasie in Bewegung (K-26S-2021) 
LOCATION:Kunstschule Monheim am Rhein, Raum 3.3, Berliner Ring 9, 40789 Monheim am Rhein
END:VEVENT
BEGIN:VEVENT
DTSTAMP:20260421T124716
DTSTART;TZID=Europe/Berlin:20260619T161500
DTEND;TZID=Europe/Berlin:20260619T174500
UID:K-26S-2021-20260619T161500@KSKUNSTSCHULE MONHEIM AM RHEIN
SUMMARY:Für Kinder von 6 bis 10 Jahren Fantasie in Bewegung (K-26S-2021) 
LOCATION:Kunstschule Monheim am Rhein, Raum 3.3, Berliner Ring 9, 40789 Monheim am Rhein
END:VEVENT
BEGIN:VEVENT
DTSTAMP:20260421T124716
DTSTART;TZID=Europe/Berlin:20260626T161500
DTEND;TZID=Europe/Berlin:20260626T174500
UID:K-26S-2021-20260626T161500@KSKUNSTSCHULE MONHEIM AM RHEIN
SUMMARY:Für Kinder von 6 bis 10 Jahren Fantasie in Bewegung (K-26S-2021) 
LOCATION:Kunstschule Monheim am Rhein, Raum 3.3, Berliner Ring 9, 40789 Monheim am Rhein
END:VEVENT
BEGIN:VEVENT
DTSTAMP:20260421T124716
DTSTART;TZID=Europe/Berlin:20260703T161500
DTEND;TZID=Europe/Berlin:20260703T174500
UID:K-26S-2021-20260703T161500@KSKUNSTSCHULE MONHEIM AM RHEIN
SUMMARY:Für Kinder von 6 bis 10 Jahren Fantasie in Bewegung (K-26S-2021) 
LOCATION:Kunstschule Monheim am Rhein, Raum 3.3, Berliner Ring 9, 40789 Monheim am Rhein
END:VEVENT
END:VCALENDAR