BEGIN:VCALENDAR
VERSION:2.0
PRODID:https://www.kufer.de/kuferweb / DE
METHOD:PUBLISH
CALSCALE:GREGORIAN
X-WR-TIMEZONE:Europe/Berlin
BEGIN:VTIMEZONE
TZID:Europe/Berlin
X-LIC-LOCATION:Europe/Berlin
BEGIN:DAYLIGHT
TZOFFSETFROM:+0100
TZOFFSETTO:+0200
TZNAME:CEST
DTSTART:19700329T020000
RRULE:FREQ=YEARLY;INTERVAL=1;BYDAY=-1SU;BYMONTH=3
END:DAYLIGHT
BEGIN:STANDARD
TZOFFSETFROM:+0200
TZOFFSETTO:+0100
TZNAME:CET
DTSTART:19701025T030000
RRULE:FREQ=YEARLY;INTERVAL=1;BYDAY=-1SU;BYMONTH=10
END:STANDARD
END:VTIMEZONE
BEGIN:VEVENT
DTSTAMP:20260421T121649
DTSTART;TZID=Europe/Berlin:20260204T163000
DTEND;TZID=Europe/Berlin:20260204T180000
UID:K-26S-2010-20260204T163000@KSKUNSTSCHULE MONHEIM AM RHEIN
SUMMARY:Für Kinder von 8 bis 10 Jahren Tiefe entdecken – Landschaftsmalerei mit Pastellkreide (K-26S-2010) 
LOCATION:Winrich-von-Kniprode-Grundschule; Medienraum, Monheimer Str. 5, 40789 Monheim am Rhein
END:VEVENT
BEGIN:VEVENT
DTSTAMP:20260421T121649
DTSTART;TZID=Europe/Berlin:20260211T163000
DTEND;TZID=Europe/Berlin:20260211T180000
UID:K-26S-2010-20260211T163000@KSKUNSTSCHULE MONHEIM AM RHEIN
SUMMARY:Für Kinder von 8 bis 10 Jahren Tiefe entdecken – Landschaftsmalerei mit Pastellkreide (K-26S-2010) 
LOCATION:Winrich-von-Kniprode-Grundschule; Medienraum, Monheimer Str. 5, 40789 Monheim am Rhein
END:VEVENT
BEGIN:VEVENT
DTSTAMP:20260421T121649
DTSTART;TZID=Europe/Berlin:20260218T163000
DTEND;TZID=Europe/Berlin:20260218T180000
UID:K-26S-2010-20260218T163000@KSKUNSTSCHULE MONHEIM AM RHEIN
SUMMARY:Für Kinder von 8 bis 10 Jahren Tiefe entdecken – Landschaftsmalerei mit Pastellkreide (K-26S-2010) 
LOCATION:Winrich-von-Kniprode-Grundschule; Medienraum, Monheimer Str. 5, 40789 Monheim am Rhein
END:VEVENT
BEGIN:VEVENT
DTSTAMP:20260421T121649
DTSTART;TZID=Europe/Berlin:20260225T163000
DTEND;TZID=Europe/Berlin:20260225T180000
UID:K-26S-2010-20260225T163000@KSKUNSTSCHULE MONHEIM AM RHEIN
SUMMARY:Für Kinder von 8 bis 10 Jahren Tiefe entdecken – Landschaftsmalerei mit Pastellkreide (K-26S-2010) 
LOCATION:Winrich-von-Kniprode-Grundschule; Medienraum, Monheimer Str. 5, 40789 Monheim am Rhein
END:VEVENT
BEGIN:VEVENT
DTSTAMP:20260421T121649
DTSTART;TZID=Europe/Berlin:20260311T163000
DTEND;TZID=Europe/Berlin:20260311T180000
UID:K-26S-2010-20260311T163000@KSKUNSTSCHULE MONHEIM AM RHEIN
SUMMARY:Für Kinder von 8 bis 10 Jahren Tiefe entdecken – Landschaftsmalerei mit Pastellkreide (K-26S-2010) 
LOCATION:Winrich-von-Kniprode-Grundschule; Medienraum, Monheimer Str. 5, 40789 Monheim am Rhein
END:VEVENT
BEGIN:VEVENT
DTSTAMP:20260421T121649
DTSTART;TZID=Europe/Berlin:20260318T163000
DTEND;TZID=Europe/Berlin:20260318T180000
UID:K-26S-2010-20260318T163000@KSKUNSTSCHULE MONHEIM AM RHEIN
SUMMARY:Für Kinder von 8 bis 10 Jahren Tiefe entdecken – Landschaftsmalerei mit Pastellkreide (K-26S-2010) 
LOCATION:Winrich-von-Kniprode-Grundschule; Medienraum, Monheimer Str. 5, 40789 Monheim am Rhein
END:VEVENT
BEGIN:VEVENT
DTSTAMP:20260421T121649
DTSTART;TZID=Europe/Berlin:20260325T163000
DTEND;TZID=Europe/Berlin:20260325T180000
UID:K-26S-2010-20260325T163000@KSKUNSTSCHULE MONHEIM AM RHEIN
SUMMARY:Für Kinder von 8 bis 10 Jahren Tiefe entdecken – Landschaftsmalerei mit Pastellkreide (K-26S-2010) 
LOCATION:Winrich-von-Kniprode-Grundschule; Medienraum, Monheimer Str. 5, 40789 Monheim am Rhein
END:VEVENT
BEGIN:VEVENT
DTSTAMP:20260421T121649
DTSTART;TZID=Europe/Berlin:20260415T163000
DTEND;TZID=Europe/Berlin:20260415T180000
UID:K-26S-2010-20260415T163000@KSKUNSTSCHULE MONHEIM AM RHEIN
SUMMARY:Für Kinder von 8 bis 10 Jahren Tiefe entdecken – Landschaftsmalerei mit Pastellkreide (K-26S-2010) 
LOCATION:Winrich-von-Kniprode-Grundschule; Medienraum, Monheimer Str. 5, 40789 Monheim am Rhein
END:VEVENT
BEGIN:VEVENT
DTSTAMP:20260421T121649
DTSTART;TZID=Europe/Berlin:20260422T163000
DTEND;TZID=Europe/Berlin:20260422T180000
UID:K-26S-2010-20260422T163000@KSKUNSTSCHULE MONHEIM AM RHEIN
SUMMARY:Für Kinder von 8 bis 10 Jahren Tiefe entdecken – Landschaftsmalerei mit Pastellkreide (K-26S-2010) 
LOCATION:Winrich-von-Kniprode-Grundschule; Medienraum, Monheimer Str. 5, 40789 Monheim am Rhein
END:VEVENT
END:VCALENDAR