BEGIN:VCALENDAR
VERSION:2.0
PRODID:https://www.kufer.de/kuferweb / DE
METHOD:PUBLISH
CALSCALE:GREGORIAN
X-WR-TIMEZONE:Europe/Berlin
BEGIN:VTIMEZONE
TZID:Europe/Berlin
X-LIC-LOCATION:Europe/Berlin
BEGIN:DAYLIGHT
TZOFFSETFROM:+0100
TZOFFSETTO:+0200
TZNAME:CEST
DTSTART:19700329T020000
RRULE:FREQ=YEARLY;INTERVAL=1;BYDAY=-1SU;BYMONTH=3
END:DAYLIGHT
BEGIN:STANDARD
TZOFFSETFROM:+0200
TZOFFSETTO:+0100
TZNAME:CET
DTSTART:19701025T030000
RRULE:FREQ=YEARLY;INTERVAL=1;BYDAY=-1SU;BYMONTH=10
END:STANDARD
END:VTIMEZONE
BEGIN:VEVENT
DTSTAMP:20260419T164550
DTSTART;TZID=Europe/Berlin:20260204T161500
DTEND;TZID=Europe/Berlin:20260204T174500
UID:K-26S-2006-20260204T161500@KSKUNSTSCHULE MONHEIM AM RHEIN
SUMMARY:Für Kinder von 6 bis 10 Jahren Grafiklabor (K-26S-2006) 
LOCATION:Grundschule Im Pfingsterfeld - Raum 2.23 - Kreativität, Louise-Bourgeois-Platz 1, 40789 Monheim am Rhein
END:VEVENT
BEGIN:VEVENT
DTSTAMP:20260419T164550
DTSTART;TZID=Europe/Berlin:20260211T161500
DTEND;TZID=Europe/Berlin:20260211T174500
UID:K-26S-2006-20260211T161500@KSKUNSTSCHULE MONHEIM AM RHEIN
SUMMARY:Für Kinder von 6 bis 10 Jahren Grafiklabor (K-26S-2006) 
LOCATION:Grundschule Im Pfingsterfeld - Raum 2.23 - Kreativität, Louise-Bourgeois-Platz 1, 40789 Monheim am Rhein
END:VEVENT
BEGIN:VEVENT
DTSTAMP:20260419T164550
DTSTART;TZID=Europe/Berlin:20260218T161500
DTEND;TZID=Europe/Berlin:20260218T174500
UID:K-26S-2006-20260218T161500@KSKUNSTSCHULE MONHEIM AM RHEIN
SUMMARY:Für Kinder von 6 bis 10 Jahren Grafiklabor (K-26S-2006) 
LOCATION:Grundschule Im Pfingsterfeld - Raum 2.23 - Kreativität, Louise-Bourgeois-Platz 1, 40789 Monheim am Rhein
END:VEVENT
BEGIN:VEVENT
DTSTAMP:20260419T164550
DTSTART;TZID=Europe/Berlin:20260225T161500
DTEND;TZID=Europe/Berlin:20260225T174500
UID:K-26S-2006-20260225T161500@KSKUNSTSCHULE MONHEIM AM RHEIN
SUMMARY:Für Kinder von 6 bis 10 Jahren Grafiklabor (K-26S-2006) 
LOCATION:Grundschule Im Pfingsterfeld - Raum 2.23 - Kreativität, Louise-Bourgeois-Platz 1, 40789 Monheim am Rhein
END:VEVENT
BEGIN:VEVENT
DTSTAMP:20260419T164550
DTSTART;TZID=Europe/Berlin:20260311T161500
DTEND;TZID=Europe/Berlin:20260311T174500
UID:K-26S-2006-20260311T161500@KSKUNSTSCHULE MONHEIM AM RHEIN
SUMMARY:Für Kinder von 6 bis 10 Jahren Grafiklabor (K-26S-2006) 
LOCATION:Grundschule Im Pfingsterfeld - Raum 2.23 - Kreativität, Louise-Bourgeois-Platz 1, 40789 Monheim am Rhein
END:VEVENT
BEGIN:VEVENT
DTSTAMP:20260419T164550
DTSTART;TZID=Europe/Berlin:20260318T161500
DTEND;TZID=Europe/Berlin:20260318T174500
UID:K-26S-2006-20260318T161500@KSKUNSTSCHULE MONHEIM AM RHEIN
SUMMARY:Für Kinder von 6 bis 10 Jahren Grafiklabor (K-26S-2006) 
LOCATION:Grundschule Im Pfingsterfeld - Raum 2.23 - Kreativität, Louise-Bourgeois-Platz 1, 40789 Monheim am Rhein
END:VEVENT
BEGIN:VEVENT
DTSTAMP:20260419T164550
DTSTART;TZID=Europe/Berlin:20260325T161500
DTEND;TZID=Europe/Berlin:20260325T174500
UID:K-26S-2006-20260325T161500@KSKUNSTSCHULE MONHEIM AM RHEIN
SUMMARY:Für Kinder von 6 bis 10 Jahren Grafiklabor (K-26S-2006) 
LOCATION:Grundschule Im Pfingsterfeld - Raum 2.23 - Kreativität, Louise-Bourgeois-Platz 1, 40789 Monheim am Rhein
END:VEVENT
BEGIN:VEVENT
DTSTAMP:20260419T164550
DTSTART;TZID=Europe/Berlin:20260415T161500
DTEND;TZID=Europe/Berlin:20260415T174500
UID:K-26S-2006-20260415T161500@KSKUNSTSCHULE MONHEIM AM RHEIN
SUMMARY:Für Kinder von 6 bis 10 Jahren Grafiklabor (K-26S-2006) 
LOCATION:Grundschule Im Pfingsterfeld - Raum 2.23 - Kreativität, Louise-Bourgeois-Platz 1, 40789 Monheim am Rhein
END:VEVENT
BEGIN:VEVENT
DTSTAMP:20260419T164550
DTSTART;TZID=Europe/Berlin:20260422T161500
DTEND;TZID=Europe/Berlin:20260422T174500
UID:K-26S-2006-20260422T161500@KSKUNSTSCHULE MONHEIM AM RHEIN
SUMMARY:Für Kinder von 6 bis 10 Jahren Grafiklabor (K-26S-2006) 
LOCATION:Grundschule Im Pfingsterfeld - Raum 2.23 - Kreativität, Louise-Bourgeois-Platz 1, 40789 Monheim am Rhein
END:VEVENT
END:VCALENDAR