BEGIN:VCALENDAR
VERSION:2.0
PRODID:https://www.kufer.de/kuferweb / DE
METHOD:PUBLISH
CALSCALE:GREGORIAN
X-WR-TIMEZONE:Europe/Berlin
BEGIN:VTIMEZONE
TZID:Europe/Berlin
X-LIC-LOCATION:Europe/Berlin
BEGIN:DAYLIGHT
TZOFFSETFROM:+0100
TZOFFSETTO:+0200
TZNAME:CEST
DTSTART:19700329T020000
RRULE:FREQ=YEARLY;INTERVAL=1;BYDAY=-1SU;BYMONTH=3
END:DAYLIGHT
BEGIN:STANDARD
TZOFFSETFROM:+0200
TZOFFSETTO:+0100
TZNAME:CET
DTSTART:19701025T030000
RRULE:FREQ=YEARLY;INTERVAL=1;BYDAY=-1SU;BYMONTH=10
END:STANDARD
END:VTIMEZONE
BEGIN:VEVENT
DTSTAMP:20260419T182838
DTSTART;TZID=Europe/Berlin:20260501T160000
DTEND;TZID=Europe/Berlin:20260501T190000
UID:K-26S-1402-20260501T160000@KSKUNSTSCHULE MONHEIM AM RHEIN
SUMMARY:Kunstschule: Unterwegs mit dem Kunstmobil (K-26S-1402) 
LOCATION:Kunstschule Monheim am Rhein, Kunstschul-Mobil, Berliner Ring 9, 40789 Monheim am Rhein
END:VEVENT
BEGIN:VEVENT
DTSTAMP:20260419T182838
DTSTART;TZID=Europe/Berlin:20260508T160000
DTEND;TZID=Europe/Berlin:20260508T190000
UID:K-26S-1403-20260508T160000@KSKUNSTSCHULE MONHEIM AM RHEIN
SUMMARY:Kunstschule: Unterwegs mit dem Kunstmobil (K-26S-1403) 
LOCATION:Kunstschule Monheim am Rhein, Kunstschul-Mobil, Berliner Ring 9, 40789 Monheim am Rhein
END:VEVENT
BEGIN:VEVENT
DTSTAMP:20260419T182838
DTSTART;TZID=Europe/Berlin:20260605T160000
DTEND;TZID=Europe/Berlin:20260605T190000
UID:K-26S-1404-20260605T160000@KSKUNSTSCHULE MONHEIM AM RHEIN
SUMMARY:Kunstschule: Unterwegs mit dem Kunstmobil (K-26S-1404) 
LOCATION:Kunstschule Monheim am Rhein, Kunstschul-Mobil, Berliner Ring 9, 40789 Monheim am Rhein
END:VEVENT
BEGIN:VEVENT
DTSTAMP:20260419T182838
DTSTART;TZID=Europe/Berlin:20260612T160000
DTEND;TZID=Europe/Berlin:20260612T190000
UID:K-26S-1405-20260612T160000@KSKUNSTSCHULE MONHEIM AM RHEIN
SUMMARY:Kunstschule: Unterwegs mit dem Kunstmobil (K-26S-1405) 
LOCATION:Kunstschule Monheim am Rhein, Kunstschul-Mobil, Berliner Ring 9, 40789 Monheim am Rhein
END:VEVENT
BEGIN:VEVENT
DTSTAMP:20260419T182838
DTSTART;TZID=Europe/Berlin:20260703T160000
DTEND;TZID=Europe/Berlin:20260703T190000
UID:K-26S-1406-20260703T160000@KSKUNSTSCHULE MONHEIM AM RHEIN
SUMMARY:Kunstschule: Unterwegs mit dem Kunstmobil (K-26S-1406) 
LOCATION:Kunstschule Monheim am Rhein, Kunstschul-Mobil, Berliner Ring 9, 40789 Monheim am Rhein
END:VEVENT
BEGIN:VEVENT
DTSTAMP:20260419T182838
DTSTART;TZID=Europe/Berlin:20260710T160000
DTEND;TZID=Europe/Berlin:20260710T190000
UID:K-26S-1407-20260710T160000@KSKUNSTSCHULE MONHEIM AM RHEIN
SUMMARY:Kunstschule: Unterwegs mit dem Kunstmobil (K-26S-1407) 
LOCATION:Kunstschule Monheim am Rhein, Kunstschul-Mobil, Berliner Ring 9, 40789 Monheim am Rhein
END:VEVENT
BEGIN:VEVENT
DTSTAMP:20260419T182838
DTSTART;TZID=Europe/Berlin:20260727T160000
DTEND;TZID=Europe/Berlin:20260727T190000
UID:K-26S-1408-20260727T160000@KSKUNSTSCHULE MONHEIM AM RHEIN
SUMMARY:Kunstschule: Unterwegs mit dem Kunstmobil (K-26S-1408) 
LOCATION:Kunstschule Monheim am Rhein, Kunstschul-Mobil, Berliner Ring 9, 40789 Monheim am Rhein
END:VEVENT
BEGIN:VEVENT
DTSTAMP:20260419T182838
DTSTART;TZID=Europe/Berlin:20260728T160000
DTEND;TZID=Europe/Berlin:20260728T190000
UID:K-26S-1409-20260728T160000@KSKUNSTSCHULE MONHEIM AM RHEIN
SUMMARY:Kunstschule: Unterwegs mit dem Kunstmobil (K-26S-1409) 
LOCATION:Kunstschule Monheim am Rhein, Kunstschul-Mobil, Berliner Ring 9, 40789 Monheim am Rhein
END:VEVENT
BEGIN:VEVENT
DTSTAMP:20260419T182838
DTSTART;TZID=Europe/Berlin:20260729T160000
DTEND;TZID=Europe/Berlin:20260729T190000
UID:K-26S-1410-20260729T160000@KSKUNSTSCHULE MONHEIM AM RHEIN
SUMMARY:Kunstschule: Unterwegs mit dem Kunstmobil (K-26S-1410) 
LOCATION:Kunstschule Monheim am Rhein, Kunstschul-Mobil, Berliner Ring 9, 40789 Monheim am Rhein
END:VEVENT
BEGIN:VEVENT
DTSTAMP:20260419T182838
DTSTART;TZID=Europe/Berlin:20260730T160000
DTEND;TZID=Europe/Berlin:20260730T190000
UID:K-26S-1411-20260730T160000@KSKUNSTSCHULE MONHEIM AM RHEIN
SUMMARY:Kunstschule: Unterwegs mit dem Kunstmobil (K-26S-1411) 
LOCATION:Kunstschule Monheim am Rhein, Kunstschul-Mobil, Berliner Ring 9, 40789 Monheim am Rhein
END:VEVENT
BEGIN:VEVENT
DTSTAMP:20260419T182838
DTSTART;TZID=Europe/Berlin:20260731T160000
DTEND;TZID=Europe/Berlin:20260731T190000
UID:K-26S-1412-20260731T160000@KSKUNSTSCHULE MONHEIM AM RHEIN
SUMMARY:Kunstschule: Unterwegs mit dem Kunstmobil (K-26S-1412) 
LOCATION:Kunstschule Monheim am Rhein, Kunstschul-Mobil, Berliner Ring 9, 40789 Monheim am Rhein
END:VEVENT
END:VCALENDAR