BEGIN:VCALENDAR
VERSION:2.0
PRODID:https://www.kufer.de/kuferweb / DE
METHOD:PUBLISH
CALSCALE:GREGORIAN
X-WR-TIMEZONE:Europe/Berlin
BEGIN:VTIMEZONE
TZID:Europe/Berlin
X-LIC-LOCATION:Europe/Berlin
BEGIN:DAYLIGHT
TZOFFSETFROM:+0100
TZOFFSETTO:+0200
TZNAME:CEST
DTSTART:19700329T020000
RRULE:FREQ=YEARLY;INTERVAL=1;BYDAY=-1SU;BYMONTH=3
END:DAYLIGHT
BEGIN:STANDARD
TZOFFSETFROM:+0200
TZOFFSETTO:+0100
TZNAME:CET
DTSTART:19701025T030000
RRULE:FREQ=YEARLY;INTERVAL=1;BYDAY=-1SU;BYMONTH=10
END:STANDARD
END:VTIMEZONE
BEGIN:VEVENT
DTSTAMP:20260419T230408
DTSTART;TZID=Europe/Berlin:20260508T104500
DTEND;TZID=Europe/Berlin:20260508T113000
UID:K-26S-1019-20260508T104500@KSKUNSTSCHULE MONHEIM AM RHEIN
SUMMARY:Für Kinder von 1,5 bis 3 Jahren mit Begleitperson kleine Hände, große Kunst (K-26S-1019) 
LOCATION:Kunstschule Monheim am Rhein, Raum 3.1, Berliner Ring 9, 40789 Monheim am Rhein
END:VEVENT
BEGIN:VEVENT
DTSTAMP:20260419T230408
DTSTART;TZID=Europe/Berlin:20260522T104500
DTEND;TZID=Europe/Berlin:20260522T113000
UID:K-26S-1019-20260522T104500@KSKUNSTSCHULE MONHEIM AM RHEIN
SUMMARY:Für Kinder von 1,5 bis 3 Jahren mit Begleitperson kleine Hände, große Kunst (K-26S-1019) 
LOCATION:Kunstschule Monheim am Rhein, Raum 3.1, Berliner Ring 9, 40789 Monheim am Rhein
END:VEVENT
BEGIN:VEVENT
DTSTAMP:20260419T230408
DTSTART;TZID=Europe/Berlin:20260529T104500
DTEND;TZID=Europe/Berlin:20260529T113000
UID:K-26S-1019-20260529T104500@KSKUNSTSCHULE MONHEIM AM RHEIN
SUMMARY:Für Kinder von 1,5 bis 3 Jahren mit Begleitperson kleine Hände, große Kunst (K-26S-1019) 
LOCATION:Kunstschule Monheim am Rhein, Raum 3.1, Berliner Ring 9, 40789 Monheim am Rhein
END:VEVENT
BEGIN:VEVENT
DTSTAMP:20260419T230408
DTSTART;TZID=Europe/Berlin:20260612T104500
DTEND;TZID=Europe/Berlin:20260612T113000
UID:K-26S-1019-20260612T104500@KSKUNSTSCHULE MONHEIM AM RHEIN
SUMMARY:Für Kinder von 1,5 bis 3 Jahren mit Begleitperson kleine Hände, große Kunst (K-26S-1019) 
LOCATION:Kunstschule Monheim am Rhein, Raum 3.1, Berliner Ring 9, 40789 Monheim am Rhein
END:VEVENT
BEGIN:VEVENT
DTSTAMP:20260419T230408
DTSTART;TZID=Europe/Berlin:20260619T104500
DTEND;TZID=Europe/Berlin:20260619T113000
UID:K-26S-1019-20260619T104500@KSKUNSTSCHULE MONHEIM AM RHEIN
SUMMARY:Für Kinder von 1,5 bis 3 Jahren mit Begleitperson kleine Hände, große Kunst (K-26S-1019) 
LOCATION:Kunstschule Monheim am Rhein, Raum 3.1, Berliner Ring 9, 40789 Monheim am Rhein
END:VEVENT
BEGIN:VEVENT
DTSTAMP:20260419T230408
DTSTART;TZID=Europe/Berlin:20260626T104500
DTEND;TZID=Europe/Berlin:20260626T113000
UID:K-26S-1019-20260626T104500@KSKUNSTSCHULE MONHEIM AM RHEIN
SUMMARY:Für Kinder von 1,5 bis 3 Jahren mit Begleitperson kleine Hände, große Kunst (K-26S-1019) 
LOCATION:Kunstschule Monheim am Rhein, Raum 3.1, Berliner Ring 9, 40789 Monheim am Rhein
END:VEVENT
BEGIN:VEVENT
DTSTAMP:20260419T230408
DTSTART;TZID=Europe/Berlin:20260703T104500
DTEND;TZID=Europe/Berlin:20260703T113000
UID:K-26S-1019-20260703T104500@KSKUNSTSCHULE MONHEIM AM RHEIN
SUMMARY:Für Kinder von 1,5 bis 3 Jahren mit Begleitperson kleine Hände, große Kunst (K-26S-1019) 
LOCATION:Kunstschule Monheim am Rhein, Raum 3.1, Berliner Ring 9, 40789 Monheim am Rhein
END:VEVENT
END:VCALENDAR