BEGIN:VCALENDAR
VERSION:2.0
PRODID:https://www.kufer.de/kuferweb / DE
METHOD:PUBLISH
CALSCALE:GREGORIAN
X-WR-TIMEZONE:Europe/Berlin
BEGIN:VTIMEZONE
TZID:Europe/Berlin
X-LIC-LOCATION:Europe/Berlin
BEGIN:DAYLIGHT
TZOFFSETFROM:+0100
TZOFFSETTO:+0200
TZNAME:CEST
DTSTART:19700329T020000
RRULE:FREQ=YEARLY;INTERVAL=1;BYDAY=-1SU;BYMONTH=3
END:DAYLIGHT
BEGIN:STANDARD
TZOFFSETFROM:+0200
TZOFFSETTO:+0100
TZNAME:CET
DTSTART:19701025T030000
RRULE:FREQ=YEARLY;INTERVAL=1;BYDAY=-1SU;BYMONTH=10
END:STANDARD
END:VTIMEZONE
BEGIN:VEVENT
DTSTAMP:20260419T211704
DTSTART;TZID=Europe/Berlin:20260206T144500
DTEND;TZID=Europe/Berlin:20260206T153000
UID:K-26S-1016-20260206T144500@KSKUNSTSCHULE MONHEIM AM RHEIN
SUMMARY:Für Kinder von 1,5 bis 6 Jahren mit Begleitperson Bunte Kunst + - Gruppe 1 - (K-26S-1016) 
LOCATION:Kunstschule Monheim am Rhein, Raum 3.1, Berliner Ring 9, 40789 Monheim am Rhein
END:VEVENT
BEGIN:VEVENT
DTSTAMP:20260419T211704
DTSTART;TZID=Europe/Berlin:20260220T144500
DTEND;TZID=Europe/Berlin:20260220T153000
UID:K-26S-1016-20260220T144500@KSKUNSTSCHULE MONHEIM AM RHEIN
SUMMARY:Für Kinder von 1,5 bis 6 Jahren mit Begleitperson Bunte Kunst + - Gruppe 1 - (K-26S-1016) 
LOCATION:Kunstschule Monheim am Rhein, Raum 3.1, Berliner Ring 9, 40789 Monheim am Rhein
END:VEVENT
BEGIN:VEVENT
DTSTAMP:20260419T211704
DTSTART;TZID=Europe/Berlin:20260227T144500
DTEND;TZID=Europe/Berlin:20260227T153000
UID:K-26S-1016-20260227T144500@KSKUNSTSCHULE MONHEIM AM RHEIN
SUMMARY:Für Kinder von 1,5 bis 6 Jahren mit Begleitperson Bunte Kunst + - Gruppe 1 - (K-26S-1016) 
LOCATION:Kunstschule Monheim am Rhein, Raum 3.1, Berliner Ring 9, 40789 Monheim am Rhein
END:VEVENT
BEGIN:VEVENT
DTSTAMP:20260419T211704
DTSTART;TZID=Europe/Berlin:20260306T144500
DTEND;TZID=Europe/Berlin:20260306T153000
UID:K-26S-1016-20260306T144500@KSKUNSTSCHULE MONHEIM AM RHEIN
SUMMARY:Für Kinder von 1,5 bis 6 Jahren mit Begleitperson Bunte Kunst + - Gruppe 1 - (K-26S-1016) 
LOCATION:Kunstschule Monheim am Rhein, Raum 3.1, Berliner Ring 9, 40789 Monheim am Rhein
END:VEVENT
BEGIN:VEVENT
DTSTAMP:20260419T211704
DTSTART;TZID=Europe/Berlin:20260313T144500
DTEND;TZID=Europe/Berlin:20260313T153000
UID:K-26S-1016-20260313T144500@KSKUNSTSCHULE MONHEIM AM RHEIN
SUMMARY:Für Kinder von 1,5 bis 6 Jahren mit Begleitperson Bunte Kunst + - Gruppe 1 - (K-26S-1016) 
LOCATION:Kunstschule Monheim am Rhein, Raum 3.1, Berliner Ring 9, 40789 Monheim am Rhein
END:VEVENT
BEGIN:VEVENT
DTSTAMP:20260419T211704
DTSTART;TZID=Europe/Berlin:20260320T144500
DTEND;TZID=Europe/Berlin:20260320T153000
UID:K-26S-1016-20260320T144500@KSKUNSTSCHULE MONHEIM AM RHEIN
SUMMARY:Für Kinder von 1,5 bis 6 Jahren mit Begleitperson Bunte Kunst + - Gruppe 1 - (K-26S-1016) 
LOCATION:Kunstschule Monheim am Rhein, Raum 3.1, Berliner Ring 9, 40789 Monheim am Rhein
END:VEVENT
BEGIN:VEVENT
DTSTAMP:20260419T211704
DTSTART;TZID=Europe/Berlin:20260327T144500
DTEND;TZID=Europe/Berlin:20260327T153000
UID:K-26S-1016-20260327T144500@KSKUNSTSCHULE MONHEIM AM RHEIN
SUMMARY:Für Kinder von 1,5 bis 6 Jahren mit Begleitperson Bunte Kunst + - Gruppe 1 - (K-26S-1016) 
LOCATION:Kunstschule Monheim am Rhein, Raum 3.1, Berliner Ring 9, 40789 Monheim am Rhein
END:VEVENT
BEGIN:VEVENT
DTSTAMP:20260419T211704
DTSTART;TZID=Europe/Berlin:20260417T144500
DTEND;TZID=Europe/Berlin:20260417T153000
UID:K-26S-1016-20260417T144500@KSKUNSTSCHULE MONHEIM AM RHEIN
SUMMARY:Für Kinder von 1,5 bis 6 Jahren mit Begleitperson Bunte Kunst + - Gruppe 1 - (K-26S-1016) 
LOCATION:Kunstschule Monheim am Rhein, Raum 3.1, Berliner Ring 9, 40789 Monheim am Rhein
END:VEVENT
BEGIN:VEVENT
DTSTAMP:20260419T211704
DTSTART;TZID=Europe/Berlin:20260424T144500
DTEND;TZID=Europe/Berlin:20260424T153000
UID:K-26S-1016-20260424T144500@KSKUNSTSCHULE MONHEIM AM RHEIN
SUMMARY:Für Kinder von 1,5 bis 6 Jahren mit Begleitperson Bunte Kunst + - Gruppe 1 - (K-26S-1016) 
LOCATION:Kunstschule Monheim am Rhein, Raum 3.1, Berliner Ring 9, 40789 Monheim am Rhein
END:VEVENT
END:VCALENDAR