BEGIN:VCALENDAR
VERSION:2.0
PRODID:https://www.kufer.de/kuferweb / DE
METHOD:PUBLISH
CALSCALE:GREGORIAN
X-WR-TIMEZONE:Europe/Berlin
BEGIN:VTIMEZONE
TZID:Europe/Berlin
X-LIC-LOCATION:Europe/Berlin
BEGIN:DAYLIGHT
TZOFFSETFROM:+0100
TZOFFSETTO:+0200
TZNAME:CEST
DTSTART:19700329T020000
RRULE:FREQ=YEARLY;INTERVAL=1;BYDAY=-1SU;BYMONTH=3
END:DAYLIGHT
BEGIN:STANDARD
TZOFFSETFROM:+0200
TZOFFSETTO:+0100
TZNAME:CET
DTSTART:19701025T030000
RRULE:FREQ=YEARLY;INTERVAL=1;BYDAY=-1SU;BYMONTH=10
END:STANDARD
END:VTIMEZONE
BEGIN:VEVENT
DTSTAMP:20260419T211756
DTSTART;TZID=Europe/Berlin:20260508T134500
DTEND;TZID=Europe/Berlin:20260508T143000
UID:K-26S-1015-20260508T134500@KSKUNSTSCHULE MONHEIM AM RHEIN
SUMMARY:Für Kinder von 3 bis 4 Jahren mit Begleitperson Kreativ-Kollaboration - Gruppe 2 - (K-26S-1015) 
LOCATION:Kunstschule Monheim am Rhein, Raum 3.1, Berliner Ring 9, 40789 Monheim am Rhein
END:VEVENT
BEGIN:VEVENT
DTSTAMP:20260419T211756
DTSTART;TZID=Europe/Berlin:20260522T134500
DTEND;TZID=Europe/Berlin:20260522T143000
UID:K-26S-1015-20260522T134500@KSKUNSTSCHULE MONHEIM AM RHEIN
SUMMARY:Für Kinder von 3 bis 4 Jahren mit Begleitperson Kreativ-Kollaboration - Gruppe 2 - (K-26S-1015) 
LOCATION:Kunstschule Monheim am Rhein, Raum 3.1, Berliner Ring 9, 40789 Monheim am Rhein
END:VEVENT
BEGIN:VEVENT
DTSTAMP:20260419T211756
DTSTART;TZID=Europe/Berlin:20260529T134500
DTEND;TZID=Europe/Berlin:20260529T143000
UID:K-26S-1015-20260529T134500@KSKUNSTSCHULE MONHEIM AM RHEIN
SUMMARY:Für Kinder von 3 bis 4 Jahren mit Begleitperson Kreativ-Kollaboration - Gruppe 2 - (K-26S-1015) 
LOCATION:Kunstschule Monheim am Rhein, Raum 3.1, Berliner Ring 9, 40789 Monheim am Rhein
END:VEVENT
BEGIN:VEVENT
DTSTAMP:20260419T211756
DTSTART;TZID=Europe/Berlin:20260612T134500
DTEND;TZID=Europe/Berlin:20260612T143000
UID:K-26S-1015-20260612T134500@KSKUNSTSCHULE MONHEIM AM RHEIN
SUMMARY:Für Kinder von 3 bis 4 Jahren mit Begleitperson Kreativ-Kollaboration - Gruppe 2 - (K-26S-1015) 
LOCATION:Kunstschule Monheim am Rhein, Raum 3.1, Berliner Ring 9, 40789 Monheim am Rhein
END:VEVENT
BEGIN:VEVENT
DTSTAMP:20260419T211756
DTSTART;TZID=Europe/Berlin:20260619T134500
DTEND;TZID=Europe/Berlin:20260619T143000
UID:K-26S-1015-20260619T134500@KSKUNSTSCHULE MONHEIM AM RHEIN
SUMMARY:Für Kinder von 3 bis 4 Jahren mit Begleitperson Kreativ-Kollaboration - Gruppe 2 - (K-26S-1015) 
LOCATION:Kunstschule Monheim am Rhein, Raum 3.1, Berliner Ring 9, 40789 Monheim am Rhein
END:VEVENT
BEGIN:VEVENT
DTSTAMP:20260419T211756
DTSTART;TZID=Europe/Berlin:20260626T134500
DTEND;TZID=Europe/Berlin:20260626T143000
UID:K-26S-1015-20260626T134500@KSKUNSTSCHULE MONHEIM AM RHEIN
SUMMARY:Für Kinder von 3 bis 4 Jahren mit Begleitperson Kreativ-Kollaboration - Gruppe 2 - (K-26S-1015) 
LOCATION:Kunstschule Monheim am Rhein, Raum 3.1, Berliner Ring 9, 40789 Monheim am Rhein
END:VEVENT
BEGIN:VEVENT
DTSTAMP:20260419T211756
DTSTART;TZID=Europe/Berlin:20260703T134500
DTEND;TZID=Europe/Berlin:20260703T143000
UID:K-26S-1015-20260703T134500@KSKUNSTSCHULE MONHEIM AM RHEIN
SUMMARY:Für Kinder von 3 bis 4 Jahren mit Begleitperson Kreativ-Kollaboration - Gruppe 2 - (K-26S-1015) 
LOCATION:Kunstschule Monheim am Rhein, Raum 3.1, Berliner Ring 9, 40789 Monheim am Rhein
END:VEVENT
END:VCALENDAR