BEGIN:VCALENDAR
VERSION:2.0
PRODID:https://www.kufer.de/kuferweb / DE
METHOD:PUBLISH
CALSCALE:GREGORIAN
X-WR-TIMEZONE:Europe/Berlin
BEGIN:VTIMEZONE
TZID:Europe/Berlin
X-LIC-LOCATION:Europe/Berlin
BEGIN:DAYLIGHT
TZOFFSETFROM:+0100
TZOFFSETTO:+0200
TZNAME:CEST
DTSTART:19700329T020000
RRULE:FREQ=YEARLY;INTERVAL=1;BYDAY=-1SU;BYMONTH=3
END:DAYLIGHT
BEGIN:STANDARD
TZOFFSETFROM:+0200
TZOFFSETTO:+0100
TZNAME:CET
DTSTART:19701025T030000
RRULE:FREQ=YEARLY;INTERVAL=1;BYDAY=-1SU;BYMONTH=10
END:STANDARD
END:VTIMEZONE
BEGIN:VEVENT
DTSTAMP:20260419T211726
DTSTART;TZID=Europe/Berlin:20260206T134500
DTEND;TZID=Europe/Berlin:20260206T143000
UID:K-26S-1014-20260206T134500@KSKUNSTSCHULE MONHEIM AM RHEIN
SUMMARY:Für Kinder von 3 bis 4 Jahren mit Begleitperson Kreativ-Kollaboration - Gruppe 1 - (K-26S-1014) 
LOCATION:Kunstschule Monheim am Rhein, Raum 3.1, Berliner Ring 9, 40789 Monheim am Rhein
END:VEVENT
BEGIN:VEVENT
DTSTAMP:20260419T211726
DTSTART;TZID=Europe/Berlin:20260220T134500
DTEND;TZID=Europe/Berlin:20260220T143000
UID:K-26S-1014-20260220T134500@KSKUNSTSCHULE MONHEIM AM RHEIN
SUMMARY:Für Kinder von 3 bis 4 Jahren mit Begleitperson Kreativ-Kollaboration - Gruppe 1 - (K-26S-1014) 
LOCATION:Kunstschule Monheim am Rhein, Raum 3.1, Berliner Ring 9, 40789 Monheim am Rhein
END:VEVENT
BEGIN:VEVENT
DTSTAMP:20260419T211726
DTSTART;TZID=Europe/Berlin:20260227T134500
DTEND;TZID=Europe/Berlin:20260227T143000
UID:K-26S-1014-20260227T134500@KSKUNSTSCHULE MONHEIM AM RHEIN
SUMMARY:Für Kinder von 3 bis 4 Jahren mit Begleitperson Kreativ-Kollaboration - Gruppe 1 - (K-26S-1014) 
LOCATION:Kunstschule Monheim am Rhein, Raum 3.1, Berliner Ring 9, 40789 Monheim am Rhein
END:VEVENT
BEGIN:VEVENT
DTSTAMP:20260419T211726
DTSTART;TZID=Europe/Berlin:20260306T134500
DTEND;TZID=Europe/Berlin:20260306T143000
UID:K-26S-1014-20260306T134500@KSKUNSTSCHULE MONHEIM AM RHEIN
SUMMARY:Für Kinder von 3 bis 4 Jahren mit Begleitperson Kreativ-Kollaboration - Gruppe 1 - (K-26S-1014) 
LOCATION:Kunstschule Monheim am Rhein, Raum 3.1, Berliner Ring 9, 40789 Monheim am Rhein
END:VEVENT
BEGIN:VEVENT
DTSTAMP:20260419T211726
DTSTART;TZID=Europe/Berlin:20260313T134500
DTEND;TZID=Europe/Berlin:20260313T143000
UID:K-26S-1014-20260313T134500@KSKUNSTSCHULE MONHEIM AM RHEIN
SUMMARY:Für Kinder von 3 bis 4 Jahren mit Begleitperson Kreativ-Kollaboration - Gruppe 1 - (K-26S-1014) 
LOCATION:Kunstschule Monheim am Rhein, Raum 3.1, Berliner Ring 9, 40789 Monheim am Rhein
END:VEVENT
BEGIN:VEVENT
DTSTAMP:20260419T211726
DTSTART;TZID=Europe/Berlin:20260320T134500
DTEND;TZID=Europe/Berlin:20260320T143000
UID:K-26S-1014-20260320T134500@KSKUNSTSCHULE MONHEIM AM RHEIN
SUMMARY:Für Kinder von 3 bis 4 Jahren mit Begleitperson Kreativ-Kollaboration - Gruppe 1 - (K-26S-1014) 
LOCATION:Kunstschule Monheim am Rhein, Raum 3.1, Berliner Ring 9, 40789 Monheim am Rhein
END:VEVENT
BEGIN:VEVENT
DTSTAMP:20260419T211726
DTSTART;TZID=Europe/Berlin:20260327T134500
DTEND;TZID=Europe/Berlin:20260327T143000
UID:K-26S-1014-20260327T134500@KSKUNSTSCHULE MONHEIM AM RHEIN
SUMMARY:Für Kinder von 3 bis 4 Jahren mit Begleitperson Kreativ-Kollaboration - Gruppe 1 - (K-26S-1014) 
LOCATION:Kunstschule Monheim am Rhein, Raum 3.1, Berliner Ring 9, 40789 Monheim am Rhein
END:VEVENT
BEGIN:VEVENT
DTSTAMP:20260419T211726
DTSTART;TZID=Europe/Berlin:20260417T134500
DTEND;TZID=Europe/Berlin:20260417T143000
UID:K-26S-1014-20260417T134500@KSKUNSTSCHULE MONHEIM AM RHEIN
SUMMARY:Für Kinder von 3 bis 4 Jahren mit Begleitperson Kreativ-Kollaboration - Gruppe 1 - (K-26S-1014) 
LOCATION:Kunstschule Monheim am Rhein, Raum 3.1, Berliner Ring 9, 40789 Monheim am Rhein
END:VEVENT
BEGIN:VEVENT
DTSTAMP:20260419T211726
DTSTART;TZID=Europe/Berlin:20260424T134500
DTEND;TZID=Europe/Berlin:20260424T143000
UID:K-26S-1014-20260424T134500@KSKUNSTSCHULE MONHEIM AM RHEIN
SUMMARY:Für Kinder von 3 bis 4 Jahren mit Begleitperson Kreativ-Kollaboration - Gruppe 1 - (K-26S-1014) 
LOCATION:Kunstschule Monheim am Rhein, Raum 3.1, Berliner Ring 9, 40789 Monheim am Rhein
END:VEVENT
END:VCALENDAR