BEGIN:VCALENDAR
VERSION:2.0
PRODID:https://www.kufer.de/kuferweb / DE
METHOD:PUBLISH
CALSCALE:GREGORIAN
X-WR-TIMEZONE:Europe/Berlin
BEGIN:VTIMEZONE
TZID:Europe/Berlin
X-LIC-LOCATION:Europe/Berlin
BEGIN:DAYLIGHT
TZOFFSETFROM:+0100
TZOFFSETTO:+0200
TZNAME:CEST
DTSTART:19700329T020000
RRULE:FREQ=YEARLY;INTERVAL=1;BYDAY=-1SU;BYMONTH=3
END:DAYLIGHT
BEGIN:STANDARD
TZOFFSETFROM:+0200
TZOFFSETTO:+0100
TZNAME:CET
DTSTART:19701025T030000
RRULE:FREQ=YEARLY;INTERVAL=1;BYDAY=-1SU;BYMONTH=10
END:STANDARD
END:VTIMEZONE
BEGIN:VEVENT
DTSTAMP:20260419T211726
DTSTART;TZID=Europe/Berlin:20260430T150000
DTEND;TZID=Europe/Berlin:20260430T160000
UID:K-26S-1013-20260430T150000@KSKUNSTSCHULE MONHEIM AM RHEIN
SUMMARY:Für Kinder von 4 bis 6 Jahren mit Begleitperson Mini-Kunstlabor - Gruppe 2 - (K-26S-1013) 
LOCATION:Grundschule Im Pfingsterfeld - Raum 2.23 - Kreativität, Louise-Bourgeois-Platz 1, 40789 Monheim am Rhein
END:VEVENT
BEGIN:VEVENT
DTSTAMP:20260419T211726
DTSTART;TZID=Europe/Berlin:20260507T150000
DTEND;TZID=Europe/Berlin:20260507T160000
UID:K-26S-1013-20260507T150000@KSKUNSTSCHULE MONHEIM AM RHEIN
SUMMARY:Für Kinder von 4 bis 6 Jahren mit Begleitperson Mini-Kunstlabor - Gruppe 2 - (K-26S-1013) 
LOCATION:Grundschule Im Pfingsterfeld - Raum 2.23 - Kreativität, Louise-Bourgeois-Platz 1, 40789 Monheim am Rhein
END:VEVENT
BEGIN:VEVENT
DTSTAMP:20260419T211726
DTSTART;TZID=Europe/Berlin:20260521T150000
DTEND;TZID=Europe/Berlin:20260521T160000
UID:K-26S-1013-20260521T150000@KSKUNSTSCHULE MONHEIM AM RHEIN
SUMMARY:Für Kinder von 4 bis 6 Jahren mit Begleitperson Mini-Kunstlabor - Gruppe 2 - (K-26S-1013) 
LOCATION:Grundschule Im Pfingsterfeld - Raum 2.23 - Kreativität, Louise-Bourgeois-Platz 1, 40789 Monheim am Rhein
END:VEVENT
BEGIN:VEVENT
DTSTAMP:20260419T211726
DTSTART;TZID=Europe/Berlin:20260528T150000
DTEND;TZID=Europe/Berlin:20260528T160000
UID:K-26S-1013-20260528T150000@KSKUNSTSCHULE MONHEIM AM RHEIN
SUMMARY:Für Kinder von 4 bis 6 Jahren mit Begleitperson Mini-Kunstlabor - Gruppe 2 - (K-26S-1013) 
LOCATION:Grundschule Im Pfingsterfeld - Raum 2.23 - Kreativität, Louise-Bourgeois-Platz 1, 40789 Monheim am Rhein
END:VEVENT
BEGIN:VEVENT
DTSTAMP:20260419T211726
DTSTART;TZID=Europe/Berlin:20260611T150000
DTEND;TZID=Europe/Berlin:20260611T160000
UID:K-26S-1013-20260611T150000@KSKUNSTSCHULE MONHEIM AM RHEIN
SUMMARY:Für Kinder von 4 bis 6 Jahren mit Begleitperson Mini-Kunstlabor - Gruppe 2 - (K-26S-1013) 
LOCATION:Grundschule Im Pfingsterfeld - Raum 2.23 - Kreativität, Louise-Bourgeois-Platz 1, 40789 Monheim am Rhein
END:VEVENT
BEGIN:VEVENT
DTSTAMP:20260419T211726
DTSTART;TZID=Europe/Berlin:20260618T150000
DTEND;TZID=Europe/Berlin:20260618T160000
UID:K-26S-1013-20260618T150000@KSKUNSTSCHULE MONHEIM AM RHEIN
SUMMARY:Für Kinder von 4 bis 6 Jahren mit Begleitperson Mini-Kunstlabor - Gruppe 2 - (K-26S-1013) 
LOCATION:Grundschule Im Pfingsterfeld - Raum 2.23 - Kreativität, Louise-Bourgeois-Platz 1, 40789 Monheim am Rhein
END:VEVENT
BEGIN:VEVENT
DTSTAMP:20260419T211726
DTSTART;TZID=Europe/Berlin:20260625T150000
DTEND;TZID=Europe/Berlin:20260625T160000
UID:K-26S-1013-20260625T150000@KSKUNSTSCHULE MONHEIM AM RHEIN
SUMMARY:Für Kinder von 4 bis 6 Jahren mit Begleitperson Mini-Kunstlabor - Gruppe 2 - (K-26S-1013) 
LOCATION:Grundschule Im Pfingsterfeld - Raum 2.23 - Kreativität, Louise-Bourgeois-Platz 1, 40789 Monheim am Rhein
END:VEVENT
BEGIN:VEVENT
DTSTAMP:20260419T211726
DTSTART;TZID=Europe/Berlin:20260702T150000
DTEND;TZID=Europe/Berlin:20260702T160000
UID:K-26S-1013-20260702T150000@KSKUNSTSCHULE MONHEIM AM RHEIN
SUMMARY:Für Kinder von 4 bis 6 Jahren mit Begleitperson Mini-Kunstlabor - Gruppe 2 - (K-26S-1013) 
LOCATION:Grundschule Im Pfingsterfeld - Raum 2.23 - Kreativität, Louise-Bourgeois-Platz 1, 40789 Monheim am Rhein
END:VEVENT
END:VCALENDAR