BEGIN:VCALENDAR
VERSION:2.0
PRODID:https://www.kufer.de/kuferweb / DE
METHOD:PUBLISH
CALSCALE:GREGORIAN
X-WR-TIMEZONE:Europe/Berlin
BEGIN:VTIMEZONE
TZID:Europe/Berlin
X-LIC-LOCATION:Europe/Berlin
BEGIN:DAYLIGHT
TZOFFSETFROM:+0100
TZOFFSETTO:+0200
TZNAME:CEST
DTSTART:19700329T020000
RRULE:FREQ=YEARLY;INTERVAL=1;BYDAY=-1SU;BYMONTH=3
END:DAYLIGHT
BEGIN:STANDARD
TZOFFSETFROM:+0200
TZOFFSETTO:+0100
TZNAME:CET
DTSTART:19701025T030000
RRULE:FREQ=YEARLY;INTERVAL=1;BYDAY=-1SU;BYMONTH=10
END:STANDARD
END:VTIMEZONE
BEGIN:VEVENT
DTSTAMP:20260419T211852
DTSTART;TZID=Europe/Berlin:20260205T150000
DTEND;TZID=Europe/Berlin:20260205T160000
UID:K-26S-1010-20260205T150000@KSKUNSTSCHULE MONHEIM AM RHEIN
SUMMARY:Für Kinder von 4 bis 6 Jahren mit Begleitperson  Kunst im Doppelpack (K-26S-1010) 
LOCATION:Kunstschule Monheim am Rhein, Raum 3.1, Berliner Ring 9, 40789 Monheim am Rhein
END:VEVENT
BEGIN:VEVENT
DTSTAMP:20260419T211852
DTSTART;TZID=Europe/Berlin:20260219T150000
DTEND;TZID=Europe/Berlin:20260219T160000
UID:K-26S-1010-20260219T150000@KSKUNSTSCHULE MONHEIM AM RHEIN
SUMMARY:Für Kinder von 4 bis 6 Jahren mit Begleitperson  Kunst im Doppelpack (K-26S-1010) 
LOCATION:Kunstschule Monheim am Rhein, Raum 3.1, Berliner Ring 9, 40789 Monheim am Rhein
END:VEVENT
BEGIN:VEVENT
DTSTAMP:20260419T211852
DTSTART;TZID=Europe/Berlin:20260226T150000
DTEND;TZID=Europe/Berlin:20260226T160000
UID:K-26S-1010-20260226T150000@KSKUNSTSCHULE MONHEIM AM RHEIN
SUMMARY:Für Kinder von 4 bis 6 Jahren mit Begleitperson  Kunst im Doppelpack (K-26S-1010) 
LOCATION:Kunstschule Monheim am Rhein, Raum 3.1, Berliner Ring 9, 40789 Monheim am Rhein
END:VEVENT
BEGIN:VEVENT
DTSTAMP:20260419T211852
DTSTART;TZID=Europe/Berlin:20260305T150000
DTEND;TZID=Europe/Berlin:20260305T160000
UID:K-26S-1010-20260305T150000@KSKUNSTSCHULE MONHEIM AM RHEIN
SUMMARY:Für Kinder von 4 bis 6 Jahren mit Begleitperson  Kunst im Doppelpack (K-26S-1010) 
LOCATION:Kunstschule Monheim am Rhein, Raum 3.1, Berliner Ring 9, 40789 Monheim am Rhein
END:VEVENT
BEGIN:VEVENT
DTSTAMP:20260419T211852
DTSTART;TZID=Europe/Berlin:20260312T150000
DTEND;TZID=Europe/Berlin:20260312T160000
UID:K-26S-1010-20260312T150000@KSKUNSTSCHULE MONHEIM AM RHEIN
SUMMARY:Für Kinder von 4 bis 6 Jahren mit Begleitperson  Kunst im Doppelpack (K-26S-1010) 
LOCATION:Kunstschule Monheim am Rhein, Raum 3.1, Berliner Ring 9, 40789 Monheim am Rhein
END:VEVENT
BEGIN:VEVENT
DTSTAMP:20260419T211852
DTSTART;TZID=Europe/Berlin:20260319T150000
DTEND;TZID=Europe/Berlin:20260319T160000
UID:K-26S-1010-20260319T150000@KSKUNSTSCHULE MONHEIM AM RHEIN
SUMMARY:Für Kinder von 4 bis 6 Jahren mit Begleitperson  Kunst im Doppelpack (K-26S-1010) 
LOCATION:Kunstschule Monheim am Rhein, Raum 3.1, Berliner Ring 9, 40789 Monheim am Rhein
END:VEVENT
BEGIN:VEVENT
DTSTAMP:20260419T211852
DTSTART;TZID=Europe/Berlin:20260326T150000
DTEND;TZID=Europe/Berlin:20260326T160000
UID:K-26S-1010-20260326T150000@KSKUNSTSCHULE MONHEIM AM RHEIN
SUMMARY:Für Kinder von 4 bis 6 Jahren mit Begleitperson  Kunst im Doppelpack (K-26S-1010) 
LOCATION:Kunstschule Monheim am Rhein, Raum 3.1, Berliner Ring 9, 40789 Monheim am Rhein
END:VEVENT
BEGIN:VEVENT
DTSTAMP:20260419T211852
DTSTART;TZID=Europe/Berlin:20260416T150000
DTEND;TZID=Europe/Berlin:20260416T160000
UID:K-26S-1010-20260416T150000@KSKUNSTSCHULE MONHEIM AM RHEIN
SUMMARY:Für Kinder von 4 bis 6 Jahren mit Begleitperson  Kunst im Doppelpack (K-26S-1010) 
LOCATION:Kunstschule Monheim am Rhein, Raum 3.1, Berliner Ring 9, 40789 Monheim am Rhein
END:VEVENT
BEGIN:VEVENT
DTSTAMP:20260419T211852
DTSTART;TZID=Europe/Berlin:20260423T150000
DTEND;TZID=Europe/Berlin:20260423T160000
UID:K-26S-1010-20260423T150000@KSKUNSTSCHULE MONHEIM AM RHEIN
SUMMARY:Für Kinder von 4 bis 6 Jahren mit Begleitperson  Kunst im Doppelpack (K-26S-1010) 
LOCATION:Kunstschule Monheim am Rhein, Raum 3.1, Berliner Ring 9, 40789 Monheim am Rhein
END:VEVENT
END:VCALENDAR