BEGIN:VCALENDAR
VERSION:2.0
PRODID:https://www.kufer.de/kuferweb / DE
METHOD:PUBLISH
CALSCALE:GREGORIAN
X-WR-TIMEZONE:Europe/Berlin
BEGIN:VTIMEZONE
TZID:Europe/Berlin
X-LIC-LOCATION:Europe/Berlin
BEGIN:DAYLIGHT
TZOFFSETFROM:+0100
TZOFFSETTO:+0200
TZNAME:CEST
DTSTART:19700329T020000
RRULE:FREQ=YEARLY;INTERVAL=1;BYDAY=-1SU;BYMONTH=3
END:DAYLIGHT
BEGIN:STANDARD
TZOFFSETFROM:+0200
TZOFFSETTO:+0100
TZNAME:CET
DTSTART:19701025T030000
RRULE:FREQ=YEARLY;INTERVAL=1;BYDAY=-1SU;BYMONTH=10
END:STANDARD
END:VTIMEZONE
BEGIN:VEVENT
DTSTAMP:20260419T211623
DTSTART;TZID=Europe/Berlin:20260202T163000
DTEND;TZID=Europe/Berlin:20260202T173000
UID:K-26S-1002-20260202T163000@KSKUNSTSCHULE MONHEIM AM RHEIN
SUMMARY:Für Kinder von 4 bis 6 Jahren mit Begleitperson Töpferspaß (K-26S-1002) 
LOCATION:Kunstschule Monheim am Rhein, Raum 3.2, Berliner Ring 9, 40789 Monheim am Rhein
END:VEVENT
BEGIN:VEVENT
DTSTAMP:20260419T211623
DTSTART;TZID=Europe/Berlin:20260209T163000
DTEND;TZID=Europe/Berlin:20260209T173000
UID:K-26S-1002-20260209T163000@KSKUNSTSCHULE MONHEIM AM RHEIN
SUMMARY:Für Kinder von 4 bis 6 Jahren mit Begleitperson Töpferspaß (K-26S-1002) 
LOCATION:Kunstschule Monheim am Rhein, Raum 3.2, Berliner Ring 9, 40789 Monheim am Rhein
END:VEVENT
BEGIN:VEVENT
DTSTAMP:20260419T211623
DTSTART;TZID=Europe/Berlin:20260223T163000
DTEND;TZID=Europe/Berlin:20260223T173000
UID:K-26S-1002-20260223T163000@KSKUNSTSCHULE MONHEIM AM RHEIN
SUMMARY:Für Kinder von 4 bis 6 Jahren mit Begleitperson Töpferspaß (K-26S-1002) 
LOCATION:Kunstschule Monheim am Rhein, Raum 3.2, Berliner Ring 9, 40789 Monheim am Rhein
END:VEVENT
BEGIN:VEVENT
DTSTAMP:20260419T211623
DTSTART;TZID=Europe/Berlin:20260302T163000
DTEND;TZID=Europe/Berlin:20260302T173000
UID:K-26S-1002-20260302T163000@KSKUNSTSCHULE MONHEIM AM RHEIN
SUMMARY:Für Kinder von 4 bis 6 Jahren mit Begleitperson Töpferspaß (K-26S-1002) 
LOCATION:Kunstschule Monheim am Rhein, Raum 3.2, Berliner Ring 9, 40789 Monheim am Rhein
END:VEVENT
BEGIN:VEVENT
DTSTAMP:20260419T211623
DTSTART;TZID=Europe/Berlin:20260309T163000
DTEND;TZID=Europe/Berlin:20260309T173000
UID:K-26S-1002-20260309T163000@KSKUNSTSCHULE MONHEIM AM RHEIN
SUMMARY:Für Kinder von 4 bis 6 Jahren mit Begleitperson Töpferspaß (K-26S-1002) 
LOCATION:Kunstschule Monheim am Rhein, Raum 3.2, Berliner Ring 9, 40789 Monheim am Rhein
END:VEVENT
BEGIN:VEVENT
DTSTAMP:20260419T211623
DTSTART;TZID=Europe/Berlin:20260413T163000
DTEND;TZID=Europe/Berlin:20260413T173000
UID:K-26S-1002-20260413T163000@KSKUNSTSCHULE MONHEIM AM RHEIN
DESCRIPTION:Nachholtermin für den 16.3. 03.03.26 (*CF)
SUMMARY:Für Kinder von 4 bis 6 Jahren mit Begleitperson Töpferspaß (K-26S-1002) 
LOCATION:Kunstschule Monheim am Rhein, Raum 3.2, Berliner Ring 9, 40789 Monheim am Rhein
END:VEVENT
BEGIN:VEVENT
DTSTAMP:20260419T211623
DTSTART;TZID=Europe/Berlin:20260420T163000
DTEND;TZID=Europe/Berlin:20260420T173000
UID:K-26S-1002-20260420T163000@KSKUNSTSCHULE MONHEIM AM RHEIN
DESCRIPTION:Nachholtermin für den 23.3. 03.03.26 (*CF)
SUMMARY:Für Kinder von 4 bis 6 Jahren mit Begleitperson Töpferspaß (K-26S-1002) 
LOCATION:Kunstschule Monheim am Rhein, Raum 3.2, Berliner Ring 9, 40789 Monheim am Rhein
END:VEVENT
END:VCALENDAR