BEGIN:VCALENDAR
VERSION:2.0
PRODID:https://www.kufer.de/kuferweb / DE
METHOD:PUBLISH
CALSCALE:GREGORIAN
X-WR-TIMEZONE:Europe/Berlin
BEGIN:VTIMEZONE
TZID:Europe/Berlin
X-LIC-LOCATION:Europe/Berlin
BEGIN:DAYLIGHT
TZOFFSETFROM:+0100
TZOFFSETTO:+0200
TZNAME:CEST
DTSTART:19700329T020000
RRULE:FREQ=YEARLY;INTERVAL=1;BYDAY=-1SU;BYMONTH=3
END:DAYLIGHT
BEGIN:STANDARD
TZOFFSETFROM:+0200
TZOFFSETTO:+0100
TZNAME:CET
DTSTART:19701025T030000
RRULE:FREQ=YEARLY;INTERVAL=1;BYDAY=-1SU;BYMONTH=10
END:STANDARD
END:VTIMEZONE
BEGIN:VEVENT
DTSTAMP:20260421T121049
DTSTART;TZID=Europe/Berlin:20260427T150000
DTEND;TZID=Europe/Berlin:20260427T160000
UID:K-26S-1001-20260427T150000@KSKUNSTSCHULE MONHEIM AM RHEIN
SUMMARY:Für Kinder von 5 bis 6 Jahren Medienfabrik (K-26S-1001) 
LOCATION:Kunstschule Monheim am Rhein, Raum 3.1, Berliner Ring 9, 40789 Monheim am Rhein
END:VEVENT
BEGIN:VEVENT
DTSTAMP:20260421T121049
DTSTART;TZID=Europe/Berlin:20260504T150000
DTEND;TZID=Europe/Berlin:20260504T160000
UID:K-26S-1001-20260504T150000@KSKUNSTSCHULE MONHEIM AM RHEIN
SUMMARY:Für Kinder von 5 bis 6 Jahren Medienfabrik (K-26S-1001) 
LOCATION:Kunstschule Monheim am Rhein, Raum 3.1, Berliner Ring 9, 40789 Monheim am Rhein
END:VEVENT
BEGIN:VEVENT
DTSTAMP:20260421T121049
DTSTART;TZID=Europe/Berlin:20260511T150000
DTEND;TZID=Europe/Berlin:20260511T160000
UID:K-26S-1001-20260511T150000@KSKUNSTSCHULE MONHEIM AM RHEIN
SUMMARY:Für Kinder von 5 bis 6 Jahren Medienfabrik (K-26S-1001) 
LOCATION:Kunstschule Monheim am Rhein, Raum 3.1, Berliner Ring 9, 40789 Monheim am Rhein
END:VEVENT
BEGIN:VEVENT
DTSTAMP:20260421T121049
DTSTART;TZID=Europe/Berlin:20260518T150000
DTEND;TZID=Europe/Berlin:20260518T160000
UID:K-26S-1001-20260518T150000@KSKUNSTSCHULE MONHEIM AM RHEIN
SUMMARY:Für Kinder von 5 bis 6 Jahren Medienfabrik (K-26S-1001) 
LOCATION:Kunstschule Monheim am Rhein, Raum 3.1, Berliner Ring 9, 40789 Monheim am Rhein
END:VEVENT
BEGIN:VEVENT
DTSTAMP:20260421T121049
DTSTART;TZID=Europe/Berlin:20260601T150000
DTEND;TZID=Europe/Berlin:20260601T160000
UID:K-26S-1001-20260601T150000@KSKUNSTSCHULE MONHEIM AM RHEIN
SUMMARY:Für Kinder von 5 bis 6 Jahren Medienfabrik (K-26S-1001) 
LOCATION:Kunstschule Monheim am Rhein, Raum 3.1, Berliner Ring 9, 40789 Monheim am Rhein
END:VEVENT
BEGIN:VEVENT
DTSTAMP:20260421T121049
DTSTART;TZID=Europe/Berlin:20260608T150000
DTEND;TZID=Europe/Berlin:20260608T160000
UID:K-26S-1001-20260608T150000@KSKUNSTSCHULE MONHEIM AM RHEIN
SUMMARY:Für Kinder von 5 bis 6 Jahren Medienfabrik (K-26S-1001) 
LOCATION:Kunstschule Monheim am Rhein, Raum 3.1, Berliner Ring 9, 40789 Monheim am Rhein
END:VEVENT
BEGIN:VEVENT
DTSTAMP:20260421T121049
DTSTART;TZID=Europe/Berlin:20260615T150000
DTEND;TZID=Europe/Berlin:20260615T160000
UID:K-26S-1001-20260615T150000@KSKUNSTSCHULE MONHEIM AM RHEIN
SUMMARY:Für Kinder von 5 bis 6 Jahren Medienfabrik (K-26S-1001) 
LOCATION:Kunstschule Monheim am Rhein, Raum 3.1, Berliner Ring 9, 40789 Monheim am Rhein
END:VEVENT
BEGIN:VEVENT
DTSTAMP:20260421T121049
DTSTART;TZID=Europe/Berlin:20260622T150000
DTEND;TZID=Europe/Berlin:20260622T160000
UID:K-26S-1001-20260622T150000@KSKUNSTSCHULE MONHEIM AM RHEIN
SUMMARY:Für Kinder von 5 bis 6 Jahren Medienfabrik (K-26S-1001) 
LOCATION:Kunstschule Monheim am Rhein, Raum 3.1, Berliner Ring 9, 40789 Monheim am Rhein
END:VEVENT
BEGIN:VEVENT
DTSTAMP:20260421T121049
DTSTART;TZID=Europe/Berlin:20260629T150000
DTEND;TZID=Europe/Berlin:20260629T160000
UID:K-26S-1001-20260629T150000@KSKUNSTSCHULE MONHEIM AM RHEIN
SUMMARY:Für Kinder von 5 bis 6 Jahren Medienfabrik (K-26S-1001) 
LOCATION:Kunstschule Monheim am Rhein, Raum 3.1, Berliner Ring 9, 40789 Monheim am Rhein
END:VEVENT
END:VCALENDAR