BEGIN:VCALENDAR
VERSION:2.0
PRODID:-//hacksw/handcal//NONSGML v1.0//EN
CALSCALE:GREGORIAN
BEGIN:VEVENT
UID:9020
SUMMARY:Workshop: „Werte für eine lebendige Demokratie – Von der Antike Griechenlands bis zur Gegenwart“
LOCATION:Volkshochschule\, Tempelhofer Straße 15\,  Monheim am Rhein
DTSTART:20260427T190000
DTEND:20260427T210000
DTSTAMP:20260420T001730
END:VEVENT
END:VCALENDAR