BEGIN:VCALENDAR
VERSION:2.0
PRODID:-//hacksw/handcal//NONSGML v1.0//EN
CALSCALE:GREGORIAN
BEGIN:VEVENT
UID:8847
SUMMARY:„Walk and talk“ – Kunstführung für Alle
LOCATION:Franz-Boehm-Denkmal\, Franz-Boehm-Straße\,  Monheim am Rhein
DTSTART:20260421T170000
DTEND:20260421T183000
DTSTAMP:20260420T001308
END:VEVENT
END:VCALENDAR