BEGIN:VCALENDAR
VERSION:2.0
PRODID:-//hacksw/handcal//NONSGML v1.0//EN
CALSCALE:GREGORIAN
BEGIN:VEVENT
UID:8921
SUMMARY:Vortrag: „Was ist ein gelungenes\, glückliches Leben?“
LOCATION:Pfarrer-Franz-Boehm-Haus\, Sperberstraße 2a\,  Monheim am Rhein
DTSTART:20260420T190000
DTEND:20260420T210000
DTSTAMP:20260420T001448
END:VEVENT
END:VCALENDAR