BEGIN:VCALENDAR
VERSION:2.0
PRODID:-//hacksw/handcal//NONSGML v1.0//EN
CALSCALE:GREGORIAN
BEGIN:VEVENT
UID:9018
SUMMARY:Skatrunde
LOCATION:Pfarrer-Franz-Boehm-Haus\, Sperberstraße 2a\,  Monheim am Rhein
DTSTART:20260325T140000
DTEND:20260325T170000
RRULE:FREQ=WEEKLY;BYDAY=WE;UNTIL=20260722T162900
DTSTAMP:20260420T001345
END:VEVENT
END:VCALENDAR