BEGIN:VCALENDAR
VERSION:2.0
PRODID:-//hacksw/handcal//NONSGML v1.0//EN
CALSCALE:GREGORIAN
BEGIN:VEVENT
UID:8939
SUMMARY:Nähcafé im Sojus 7
LOCATION:Sojus 7\, Kapellenstraße 36 – 40\,  Monheim am Rhein
DTSTART:20260208T140000
DTEND:20260208T180000
DTSTAMP:20260420T000952
END:VEVENT
END:VCALENDAR