BEGIN:VCALENDAR
VERSION:2.0
PRODID:-//hacksw/handcal//NONSGML v1.0//EN
CALSCALE:GREGORIAN
BEGIN:VEVENT
UID:9047
SUMMARY:Monheimer Nachmittagstour mit dem Rad
LOCATION:Rathaus\, Vorplatz\, Rathausplatz 1\,  Monheim am Rhein
DTSTART:20260506T150000
DTEND:20260506T190000
RRULE:FREQ=MONTHLY;BYDAY=1WE,3WE;UNTIL=20261021T210000
DTSTAMP:20260420T001042
END:VEVENT
END:VCALENDAR