BEGIN:VCALENDAR
VERSION:2.0
PRODID:-//hacksw/handcal//NONSGML v1.0//EN
CALSCALE:GREGORIAN
BEGIN:VEVENT
UID:9049
SUMMARY:Monheim-Baumberger Feierabendtour mit dem Rad
LOCATION:Platz vor der Rosenapotheke\, Holzweg 28\,  Monheim am Rhein
DTSTART:20260507T180000
DTEND:20260507T200000
RRULE:FREQ=WEEKLY;BYDAY=1TH,2TH,3TH,4TH,TH;UNTIL=20260924T220000
DTSTAMP:20260420T001042
END:VEVENT
END:VCALENDAR