BEGIN:VCALENDAR
VERSION:2.0
PRODID:-//hacksw/handcal//NONSGML v1.0//EN
CALSCALE:GREGORIAN
BEGIN:VEVENT
UID:8906
SUMMARY:Modernes Monheim – Technik\, Trends und Tradition
LOCATION:Tourist-Information Monheim Mitte\, Ingeborg-Friebe-Platz 19\,  Monheim am Rhein
DTSTART:20260425T140000
DTEND:20260425T153000
DTSTAMP:20260420T001248
END:VEVENT
END:VCALENDAR