BEGIN:VCALENDAR
VERSION:2.0
PRODID:-//hacksw/handcal//NONSGML v1.0//EN
CALSCALE:GREGORIAN
BEGIN:VEVENT
UID:9039
SUMMARY:Modern Bollywood Dance Workshop
LOCATION:Volkshochschule\, Tempelhofer Straße 15\,  Monheim am Rhein
DTSTART:20260513T180000
DTEND:20260527T193000
DTSTAMP:20260420T000810
END:VEVENT
END:VCALENDAR