BEGIN:VCALENDAR
VERSION:2.0
PRODID:-//hacksw/handcal//NONSGML v1.0//EN
CALSCALE:GREGORIAN
BEGIN:VEVENT
UID:8998
SUMMARY:Magische Marienburg - Frühlingsedition
LOCATION:Marienburg Monheim\, Hofstraße 16 (Zufahrt über Bleer Straße 33)\,  Monheim am Rhein
DTSTART:20260509T160000
DTEND:20260509T220000
DTSTAMP:20260420T001132
END:VEVENT
END:VCALENDAR