BEGIN:VCALENDAR
VERSION:2.0
PRODID:-//hacksw/handcal//NONSGML v1.0//EN
CALSCALE:GREGORIAN
BEGIN:VEVENT
UID:8964
SUMMARY:Live-Reportage: Grad°jetzt – Gegen die Angst
LOCATION:Emotion Kino\, Ingeborg-Friebe-Platz 5\,  Monheim am Rhein
DTSTART:20260423T190000
DTEND:20260423T213000
DTSTAMP:20260420T011623
END:VEVENT
END:VCALENDAR