BEGIN:VCALENDAR
VERSION:2.0
PRODID:-//hacksw/handcal//NONSGML v1.0//EN
CALSCALE:GREGORIAN
BEGIN:VEVENT
UID:9024
SUMMARY:Lange Lernnächte in der Bibliothek
LOCATION:Bibliothek Monheim am Rhein\, Tempelhofer Straße 13\,  Monheim am Rhein
DTSTART:20260414T180000
DTEND:20260414T210000
DTSTAMP:20260420T001248
END:VEVENT
END:VCALENDAR