BEGIN:VCALENDAR
VERSION:2.0
PRODID:-//hacksw/handcal//NONSGML v1.0//EN
CALSCALE:GREGORIAN
BEGIN:VEVENT
UID:8905
SUMMARY:Krimispaziergang: Pfotenabenteuer mit dem Familienhund
LOCATION:Ulla-Hahn-Haus\, Neustraße 2-4\,  Monheim am Rhein
DTSTART:20260513T170000
DTEND:20260513T183000
DTSTAMP:20260420T001242
END:VEVENT
END:VCALENDAR