BEGIN:VCALENDAR
VERSION:2.0
PRODID:-//hacksw/handcal//NONSGML v1.0//EN
CALSCALE:GREGORIAN
BEGIN:VEVENT
UID:9037
SUMMARY:Im Gespräch mit Sonja Wienecke: Ein halbes Jahr nach der Kommunalwahl
LOCATION:Gemeindezentrum St. Dionysius\, Von-Ketteler-Straße 12\,  Monheim am Rhein
DTSTART:20260421T190000
DTEND:20260421T203000
DTSTAMP:20260420T001145
END:VEVENT
END:VCALENDAR