BEGIN:VCALENDAR
VERSION:2.0
PRODID:-//hacksw/handcal//NONSGML v1.0//EN
CALSCALE:GREGORIAN
BEGIN:VEVENT
UID:9045
SUMMARY:Hilde Weylers Farben: Kunstausstellung und Live-Musik
LOCATION:Sojus 7\, Kapellenstraße 36 – 40\,  Monheim am Rhein
DTSTART:20260425T150000
DTEND:20260426T180000
DTSTAMP:20260420T001139
END:VEVENT
END:VCALENDAR