BEGIN:VCALENDAR
VERSION:2.0
PRODID:-//hacksw/handcal//NONSGML v1.0//EN
CALSCALE:GREGORIAN
BEGIN:VEVENT
UID:9048
SUMMARY:Gratis-Comic-Tag in beiden Pfarrbüchereien am 9.5.26
LOCATION:Katholische öffentliche Bücherei St. Dionysius\, Von-Ketteler-Str. 12\,  Monheim am Rhein
DTSTART:20260509T110000
DTEND:20260509T140000
DTSTAMP:20260420T001031
END:VEVENT
END:VCALENDAR