BEGIN:VCALENDAR
VERSION:2.0
PRODID:-//hacksw/handcal//NONSGML v1.0//EN
CALSCALE:GREGORIAN
BEGIN:VEVENT
UID:8900
SUMMARY:Café Elmar – Lesung mit Joceline Altevogt: Trau dich zu träumen
LOCATION:Ulla-Hahn-Haus\, Neustraße 2-4\,  Monheim am Rhein
DTSTART:20260424T160000
DTEND:20260424T180000
DTSTAMP:20260420T001610
END:VEVENT
END:VCALENDAR