BEGIN:VCALENDAR
VERSION:2.0
PRODID:-//hacksw/handcal//NONSGML v1.0//EN
CALSCALE:GREGORIAN
BEGIN:VEVENT
UID:8975
SUMMARY:Bürgerschaftsabend Aktionsplan „Monheim inklusiv!“
LOCATION:Rathaus\, Ratssaal\, Rathausplatz 2\,  Monheim am Rhein
DTSTART:20260422T170000
DTEND:20260422T200000
DTSTAMP:20260420T012431
END:VEVENT
END:VCALENDAR