BEGIN:VCALENDAR
VERSION:2.0
PRODID:-//hacksw/handcal//NONSGML v1.0//EN
CALSCALE:GREGORIAN
BEGIN:VEVENT
UID:8904
SUMMARY:Buch und Brunch: „we are family“ für Ein-Eltern-Familien
LOCATION:Ulla-Hahn-Haus\, Neustraße 2-4\,  Monheim am Rhein
DTSTART:20260425T110000
DTEND:20260425T130000
DTSTAMP:20260420T001653
END:VEVENT
END:VCALENDAR