BEGIN:VCALENDAR
VERSION:2.0
PRODID:-//hacksw/handcal//NONSGML v1.0//EN
CALSCALE:GREGORIAN
BEGIN:VEVENT
UID:8896
SUMMARY:Baumberger Hauptstraßenfest
LOCATION:Stadtteil Baumberg\, Hauptstraße\,  Monheim am Rhein
DTSTART:20260509T110000
DTEND:20260509T220000
DTSTAMP:20260420T001004
END:VEVENT
END:VCALENDAR