BEGIN:VCALENDAR
VERSION:2.0
PRODID:-//hacksw/handcal//NONSGML v1.0//EN
CALSCALE:GREGORIAN
BEGIN:VEVENT
UID:9046
SUMMARY:Balkan Bounce mit Kultur Shock: Konzert und Tanz-in-den-Mai-Party im Sojus 7
LOCATION:Sojus 7\, Kapellenstraße 36 – 40\,  Monheim am Rhein
DTSTART:20260430T203000
DTEND:20260430T223000
DTSTAMP:20260420T001242
END:VEVENT
END:VCALENDAR