BEGIN:VCALENDAR
VERSION:2.0
PRODID:-//hacksw/handcal//NONSGML v1.0//EN
CALSCALE:GREGORIAN
BEGIN:VEVENT
UID:9038
SUMMARY:Autorenlesung: Paul und die Bäratze
LOCATION:Bibliothek Monheim am Rhein\, Tempelhofer Straße 13\,  Monheim am Rhein
DTSTART:20260508T160000
DTEND:20260508T180000
DTSTAMP:20260420T001132
END:VEVENT
END:VCALENDAR