BEGIN:VCALENDAR
VERSION:2.0
PRODID:-//hacksw/handcal//NONSGML v1.0//EN
CALSCALE:GREGORIAN
BEGIN:VEVENT
UID:8940
SUMMARY:Absolute Mäuse: Die Lesebühne im Sojus 7 mit Talk\, Poetry und Live-Musik
LOCATION:Sojus 7\, Kapellenstraße 36 – 40\,  Monheim am Rhein
DTSTART:20260513T193000
DTEND:20260513T213000
DTSTAMP:20260420T001139
END:VEVENT
END:VCALENDAR