BEGIN:VCALENDAR
VERSION:2.0
PRODID:-//hacksw/handcal//NONSGML v1.0//EN
CALSCALE:GREGORIAN
BEGIN:VEVENT
UID:2060
SUMMARY:6. Sängerfest
LOCATION:Baumberger Dorfplatz\, Von-Ketteler-Straße 1\,  Monheim am Rhein
DTSTART:20130907T150000
DTEND:20130907T220000
DTSTAMP:20260422T150708
END:VEVENT
END:VCALENDAR