BEGIN:VCALENDAR
VERSION:2.0
PRODID:-//hacksw/handcal//NONSGML v1.0//EN
CALSCALE:GREGORIAN
BEGIN:VEVENT
UID:3915
SUMMARY:40. Sängerfest des Baumberger Männerchors
LOCATION:Bürgerhaus Baumberg\, Humboldtstraße 8\,  Monheim am Rhein
DTSTART:20170903T110000
DTEND:20170903T190000
DTSTAMP:20260422T145907
END:VEVENT
END:VCALENDAR