BEGIN:VCALENDAR
VERSION:2.0
PRODID:-//hacksw/handcal//NONSGML v1.0//EN
CALSCALE:GREGORIAN
BEGIN:VEVENT
UID:8557
SUMMARY:22. Monheimer Kindertag
LOCATION:Nord-Süd-Achse (Berliner Viertel)\, Brandenburger Allee\,  Monheim am Rhein
DTSTART:20260510T110000
DTEND:20260510T170000
DTSTAMP:20260420T000840
END:VEVENT
END:VCALENDAR