BEGIN:VCALENDAR
VERSION:2.0
PRODID:-//hacksw/handcal//NONSGML v1.0//EN
CALSCALE:GREGORIAN
BEGIN:VEVENT
UID:9041
SUMMARY:1000 Meter Film: 16-mm-Filme im Kino im Sojus 7
LOCATION:Sojus 7\, Kapellenstraße 36 – 40\,  Monheim am Rhein
DTSTART:20260517T150000
DTEND:20260517T173000
DTSTAMP:20260420T001205
END:VEVENT
END:VCALENDAR